BEGIN:VCALENDAR
VERSION:2.0
PRODID:-//Corpo Volontari Protezione Civile - Milano - ECPv6.11.2.1//NONSGML v1.0//EN
CALSCALE:GREGORIAN
METHOD:PUBLISH
X-WR-CALNAME:Corpo Volontari Protezione Civile - Milano
X-ORIGINAL-URL:https://www.cvpc.it
X-WR-CALDESC:Eventi per Corpo Volontari Protezione Civile - Milano
REFRESH-INTERVAL;VALUE=DURATION:PT1H
X-Robots-Tag:noindex
X-PUBLISHED-TTL:PT1H
BEGIN:VTIMEZONE
TZID:Europe/Rome
BEGIN:DAYLIGHT
TZOFFSETFROM:+0100
TZOFFSETTO:+0200
TZNAME:CEST
DTSTART:20250330T010000
END:DAYLIGHT
BEGIN:STANDARD
TZOFFSETFROM:+0200
TZOFFSETTO:+0100
TZNAME:CET
DTSTART:20251026T010000
END:STANDARD
END:VTIMEZONE
BEGIN:VEVENT
DTSTART;TZID=Europe/Rome:20251107T080000
DTEND;TZID=Europe/Rome:20251109T170000
DTSTAMP:20260422T235423
CREATED:20250716T194314Z
LAST-MODIFIED:20251003T100756Z
UID:5319-1762502400-1762707600@www.cvpc.it
SUMMARY:Verifiche operatività
DESCRIPTION:Verifiche operatività
URL:https://www.cvpc.it/index.php/evento/verifiche-operativita/
CATEGORIES:Associazione
ATTACH;FMTTYPE=image/jpeg:https://www.cvpc.it/wp-content/uploads/2023/04/CVPC-Logo.jpg
ORGANIZER;CN="Associazione CVPC":MAILTO:info@cvpc.it
END:VEVENT
BEGIN:VEVENT
DTSTART;TZID=Europe/Rome:20251125T210000
DTEND;TZID=Europe/Rome:20251125T230000
DTSTAMP:20260422T235423
CREATED:20251110T061653Z
LAST-MODIFIED:20251110T061653Z
UID:5643-1764104400-1764111600@www.cvpc.it
SUMMARY:Addestramento di squadra TCom
DESCRIPTION:Addestramento di squadra TCom ore 21.00
URL:https://www.cvpc.it/index.php/evento/addestramento-di-squadra-tcom-4/
LOCATION:Sede CVPC\, Via Fratelli Zoia\, 10\, Milano\, 20155\, Italia
CATEGORIES:Squadra TCOM
ATTACH;FMTTYPE=image/jpeg:https://www.cvpc.it/wp-content/uploads/2025/02/WhatsApp-Image-2025-02-19-at-09.58.00-2.jpeg
ORGANIZER;CN="Squadra TCOM":MAILTO:tcom@cvpc.it
END:VEVENT
BEGIN:VEVENT
DTSTART;TZID=Europe/Rome:20251130T080000
DTEND;TZID=Europe/Rome:20251130T130000
DTSTAMP:20260422T235423
CREATED:20251121T203329Z
LAST-MODIFIED:20251121T203611Z
UID:5672-1764489600-1764507600@www.cvpc.it
SUMMARY:Addestamento Squadra Logo - ILLUMINOTECNICA
DESCRIPTION:
URL:https://www.cvpc.it/index.php/evento/addestamento-squadra-logo-illuminotecnica/
LOCATION:Sede CVPC\, Via Fratelli Zoia\, 10\, Milano\, 20155\, Italia
CATEGORIES:Squadra LOGO
ATTACH;FMTTYPE=image/gif:https://www.cvpc.it/wp-content/uploads/2021/08/logo_logo.gif
ORGANIZER;CN="Squadra LOGO":MAILTO:logo@cvpc.it
END:VEVENT
END:VCALENDAR