BEGIN:VCALENDAR
VERSION:2.0
PRODID:-//Corpo Volontari Protezione Civile - Milano - ECPv6.11.2.1//NONSGML v1.0//EN
CALSCALE:GREGORIAN
METHOD:PUBLISH
X-ORIGINAL-URL:https://www.cvpc.it
X-WR-CALDESC:Eventi per Corpo Volontari Protezione Civile - Milano
REFRESH-INTERVAL;VALUE=DURATION:PT1H
X-Robots-Tag:noindex
X-PUBLISHED-TTL:PT1H
BEGIN:VTIMEZONE
TZID:Europe/Rome
BEGIN:DAYLIGHT
TZOFFSETFROM:+0100
TZOFFSETTO:+0200
TZNAME:CEST
DTSTART:20250330T010000
END:DAYLIGHT
BEGIN:STANDARD
TZOFFSETFROM:+0200
TZOFFSETTO:+0100
TZNAME:CET
DTSTART:20251026T010000
END:STANDARD
END:VTIMEZONE
BEGIN:VEVENT
DTSTART;TZID=Europe/Rome:20250601T160000
DTEND;TZID=Europe/Rome:20250601T170000
DTSTAMP:20260423T051533
CREATED:20250416T050024Z
LAST-MODIFIED:20251003T101109Z
UID:5101-1748793600-1748797200@www.cvpc.it
SUMMARY:Trasporto Madonna di Fatima
DESCRIPTION:Trasporto Madonna di Fatima \nPartenza alle ore 16.00 da Cederna (MB) ed arrivo a San Vittore al Corpo.
URL:https://www.cvpc.it/index.php/evento/trasporto-madonna-di-fatima-11/
CATEGORIES:Associazione
ATTACH;FMTTYPE=image/jpeg:https://www.cvpc.it/wp-content/uploads/2023/04/fatima.jpg
ORGANIZER;CN="Associazione CVPC":MAILTO:info@cvpc.it
END:VEVENT
BEGIN:VEVENT
DTSTART;TZID=Europe/Rome:20250603T190000
DTEND;TZID=Europe/Rome:20250603T190000
DTSTAMP:20260423T051533
CREATED:20250416T050417Z
LAST-MODIFIED:20251003T101059Z
UID:5104-1748977200-1748977200@www.cvpc.it
SUMMARY:Trasporto Madonna di Fatima
DESCRIPTION:Trasporto Madonna di Fatima \nPartenza alle ore 19.00 da San Vittore al Corpo ed arrivo a Ponte Nossa Val Seriana (BG).
URL:https://www.cvpc.it/index.php/evento/trasporto-madonna-di-fatima-12/
CATEGORIES:Associazione
ATTACH;FMTTYPE=image/jpeg:https://www.cvpc.it/wp-content/uploads/2023/04/fatima.jpg
ORGANIZER;CN="Associazione CVPC":MAILTO:info@cvpc.it
END:VEVENT
BEGIN:VEVENT
DTSTART;TZID=Europe/Rome:20250608T080000
DTEND;TZID=Europe/Rome:20250608T170000
DTSTAMP:20260423T051533
CREATED:20250402T191540Z
LAST-MODIFIED:20251003T101010Z
UID:4978-1749369600-1749402000@www.cvpc.it
SUMMARY:Assistenza idro - sicurezza bordo fiume a Segrate
DESCRIPTION:Assistenza idro – sicurezza bordo fiume a Segrate
URL:https://www.cvpc.it/index.php/evento/assistenza-idro-sicurezza-bordo-fiume-a-segrate/
CATEGORIES:Squadra REC
ATTACH;FMTTYPE=image/jpeg:https://www.cvpc.it/wp-content/uploads/2023/01/logo_rec_16-9.jpg
ORGANIZER;CN="Squadra REC":MAILTO:rec@cvpc.it
END:VEVENT
BEGIN:VEVENT
DTSTART;TZID=Europe/Rome:20250615T080000
DTEND;TZID=Europe/Rome:20250615T170000
DTSTAMP:20260423T051533
CREATED:20250416T045341Z
LAST-MODIFIED:20251003T101000Z
UID:5095-1749974400-1750006800@www.cvpc.it
SUMMARY:Trasporto Madonna di Fatima
DESCRIPTION:Trasporto Madonna di Fatima \nLa Madonna vola in elicottero ma in caso di maltempo trasporto con furgone. \nPartenza da Ponte Nossa Val Seriana (BG) ed arrivo a Pedrengo (BG).
URL:https://www.cvpc.it/index.php/evento/trasporto-madonna-di-fatima-10/
CATEGORIES:Associazione
ATTACH;FMTTYPE=image/jpeg:https://www.cvpc.it/wp-content/uploads/2023/04/fatima.jpg
ORGANIZER;CN="Associazione CVPC":MAILTO:info@cvpc.it
END:VEVENT
BEGIN:VEVENT
DTSTART;TZID=Europe/Rome:20250617T210000
DTEND;TZID=Europe/Rome:20250617T230000
DTSTAMP:20260423T051533
CREATED:20250610T192529Z
LAST-MODIFIED:20251003T100949Z
UID:5267-1750194000-1750201200@www.cvpc.it
SUMMARY:TCom - Addestramento di squadra
DESCRIPTION:TCom – Addestramento di squadra
URL:https://www.cvpc.it/index.php/evento/tcom-addestramento-di-squadra/
LOCATION:Sede CVPC\, Via Fratelli Zoia\, 10\, Milano\, 20155\, Italia
CATEGORIES:Squadra TCOM
ATTACH;FMTTYPE=image/jpeg:https://www.cvpc.it/wp-content/uploads/2025/02/WhatsApp-Image-2025-02-19-at-09.58.00-2.jpeg
ORGANIZER;CN="Squadra TCOM":MAILTO:tcom@cvpc.it
END:VEVENT
BEGIN:VEVENT
DTSTART;TZID=Europe/Rome:20250622T080000
DTEND;TZID=Europe/Rome:20250622T180000
DTSTAMP:20260423T051533
CREATED:20250402T192003Z
LAST-MODIFIED:20251003T100938Z
UID:4982-1750579200-1750615200@www.cvpc.it
SUMMARY:Addestramento volontariE
DESCRIPTION:Addestramento volontariE
URL:https://www.cvpc.it/index.php/evento/addestramento-volontatie/
LOCATION:Sede CCV Milano\, Via Idroscalo\, INGRESSO SUD\, 2D\, Peschiera Borromeo\, 20068
CATEGORIES:Associazione
ATTACH;FMTTYPE=image/jpeg:https://www.cvpc.it/wp-content/uploads/2023/01/logo_cvpc_16-9.jpg
ORGANIZER;CN="Associazione CVPC":MAILTO:info@cvpc.it
END:VEVENT
END:VCALENDAR