BEGIN:VCALENDAR
VERSION:2.0
PRODID:-//Corpo Volontari Protezione Civile - Milano - ECPv6.11.2.1//NONSGML v1.0//EN
CALSCALE:GREGORIAN
METHOD:PUBLISH
X-ORIGINAL-URL:https://www.cvpc.it
X-WR-CALDESC:Eventi per Corpo Volontari Protezione Civile - Milano
REFRESH-INTERVAL;VALUE=DURATION:PT1H
X-Robots-Tag:noindex
X-PUBLISHED-TTL:PT1H
BEGIN:VTIMEZONE
TZID:Europe/Rome
BEGIN:DAYLIGHT
TZOFFSETFROM:+0100
TZOFFSETTO:+0200
TZNAME:CEST
DTSTART:20250330T010000
END:DAYLIGHT
BEGIN:STANDARD
TZOFFSETFROM:+0200
TZOFFSETTO:+0100
TZNAME:CET
DTSTART:20251026T010000
END:STANDARD
END:VTIMEZONE
BEGIN:VEVENT
DTSTART;TZID=Europe/Rome:20250508T210000
DTEND;TZID=Europe/Rome:20250508T220000
DTSTAMP:20260423T143108
CREATED:20250404T182812Z
LAST-MODIFIED:20251003T101415Z
UID:5014-1746738000-1746741600@www.cvpc.it
SUMMARY:Open Day
DESCRIPTION:
URL:https://www.cvpc.it/index.php/evento/open-day-2/
LOCATION:Sede CVPC\, Via Fratelli Zoia\, 10\, Milano\, 20155\, Italia
CATEGORIES:Associazione
ATTACH;FMTTYPE=image/jpeg:https://www.cvpc.it/wp-content/uploads/2023/01/logo_cvpc_16-9.jpg
ORGANIZER;CN="Associazione CVPC":MAILTO:info@cvpc.it
END:VEVENT
BEGIN:VEVENT
DTSTART;TZID=Europe/Rome:20250510T073000
DTEND;TZID=Europe/Rome:20250510T130000
DTSTAMP:20260423T143108
CREATED:20250402T191158Z
LAST-MODIFIED:20251003T101259Z
UID:4975-1746862200-1746882000@www.cvpc.it
SUMMARY:Lezione scuola 2a media presso scuola di Canegrate via dei Partigiani
DESCRIPTION:Lezione scuola 2a media presso scuola di Canegrate via dei Partigiani
URL:https://www.cvpc.it/index.php/evento/lezione-scuola-2a-media/
CATEGORIES:Associazione
ATTACH;FMTTYPE=image/jpeg:https://www.cvpc.it/wp-content/uploads/2023/01/logo_cvpc_16-9.jpg
ORGANIZER;CN="Associazione CVPC":MAILTO:info@cvpc.it
END:VEVENT
BEGIN:VEVENT
DTSTART;TZID=Europe/Rome:20250511T080000
DTEND;TZID=Europe/Rome:20250511T130000
DTSTAMP:20260423T143108
CREATED:20250421T175635Z
LAST-MODIFIED:20251003T101250Z
UID:5168-1746950400-1746968400@www.cvpc.it
SUMMARY:StraWoman
DESCRIPTION:Assistenza corsa podistica Milano
URL:https://www.cvpc.it/index.php/evento/strawoman/
CATEGORIES:Associazione
ATTACH;FMTTYPE=image/jpeg:https://www.cvpc.it/wp-content/uploads/2023/04/CVPC-Logo.jpg
ORGANIZER;CN="Associazione CVPC":MAILTO:info@cvpc.it
END:VEVENT
BEGIN:VEVENT
DTSTART;TZID=Europe/Rome:20250511T080000
DTEND;TZID=Europe/Rome:20250511T170000
DTSTAMP:20260423T143108
CREATED:20250416T051133Z
LAST-MODIFIED:20251003T101241Z
UID:5107-1746950400-1746982800@www.cvpc.it
SUMMARY:Trasporto Madonna di Fatima
DESCRIPTION:Trasporto Madonna di Fatima \nLa Madonna vola in elicottero ma in caso di maltempo trasporto con furgone. \nPartenza da Spirano (BG) ed arrivo a Capriolo (BS).
URL:https://www.cvpc.it/index.php/evento/trasporto-madonna-di-fatima-13/
CATEGORIES:Associazione
ATTACH;FMTTYPE=image/jpeg:https://www.cvpc.it/wp-content/uploads/2023/04/fatima.jpg
ORGANIZER;CN="Associazione CVPC":MAILTO:info@cvpc.it
END:VEVENT
BEGIN:VEVENT
DTSTART;TZID=Europe/Rome:20250512T190000
DTEND;TZID=Europe/Rome:20250512T190000
DTSTAMP:20260423T143108
CREATED:20250416T043759Z
LAST-MODIFIED:20251003T101232Z
UID:5086-1747076400-1747076400@www.cvpc.it
SUMMARY:Trasporto Madonna di Fatima
DESCRIPTION:Trasporto Madonna di Fatima \nRitrovo alle ore 20.00 da don Vittorio\, partenza da Capriolo (BS) a prendere la Madonna e portarla a San Vittore al Corpo.
URL:https://www.cvpc.it/index.php/evento/trasporto-madonna-di-fatima-7/
CATEGORIES:Associazione
ATTACH;FMTTYPE=image/jpeg:https://www.cvpc.it/wp-content/uploads/2023/04/fatima.jpg
ORGANIZER;CN="Associazione CVPC":MAILTO:info@cvpc.it
END:VEVENT
BEGIN:VEVENT
DTSTART;TZID=Europe/Rome:20250513T190000
DTEND;TZID=Europe/Rome:20250513T233000
DTSTAMP:20260423T143108
CREATED:20250402T193423Z
LAST-MODIFIED:20251003T101158Z
UID:4991-1747162800-1747179000@www.cvpc.it
SUMMARY:Processione Madonna di Fatima
DESCRIPTION:Processione Madonna di Fatima
URL:https://www.cvpc.it/index.php/evento/processione-madonna-di-fatima-2/
LOCATION:Basilica di San Vittore al Corpo\, Via San Vittore\, 25\, Milano\, 20122\, Italia
CATEGORIES:Associazione
ATTACH;FMTTYPE=image/jpeg:https://www.cvpc.it/wp-content/uploads/2023/01/logo_cvpc_16-9.jpg
ORGANIZER;CN="Associazione CVPC":MAILTO:info@cvpc.it
END:VEVENT
BEGIN:VEVENT
DTSTART;TZID=Europe/Rome:20250518T080000
DTEND;TZID=Europe/Rome:20250518T170000
DTSTAMP:20260423T143108
CREATED:20250416T044413Z
LAST-MODIFIED:20251003T101149Z
UID:5089-1747555200-1747587600@www.cvpc.it
SUMMARY:Trasporto Madonna di Fatima
DESCRIPTION:Trasporto Madonna di Fatima \nLa Madonna vola in elicottero ma in caso di maltempo trasporto con furgone. \nPartenza da Capriolo (BS) ed arrivo ad Arsago Seprio (VA) e poi Casorate Sempione (VA).
URL:https://www.cvpc.it/index.php/evento/trasporto-madonna-di-fatima-8/
CATEGORIES:Associazione
ATTACH;FMTTYPE=image/jpeg:https://www.cvpc.it/wp-content/uploads/2023/04/fatima.jpg
ORGANIZER;CN="Associazione CVPC":MAILTO:info@cvpc.it
END:VEVENT
BEGIN:VEVENT
DTSTART;TZID=Europe/Rome:20250518T080000
DTEND;TZID=Europe/Rome:20250518T170000
DTSTAMP:20260423T143108
CREATED:20250506T195832Z
LAST-MODIFIED:20251003T101140Z
UID:5205-1747555200-1747587600@www.cvpc.it
SUMMARY:Addestramento Taglio + squadre
DESCRIPTION:Addestramento Taglio + squadre
URL:https://www.cvpc.it/index.php/evento/addestramento-idro/
LOCATION:Sede CCV Milano\, Via Idroscalo\, INGRESSO SUD\, 2D\, Peschiera Borromeo\, 20068
CATEGORIES:Associazione
ATTACH;FMTTYPE=image/jpeg:https://www.cvpc.it/wp-content/uploads/2025/02/WhatsApp-Image-2025-02-19-at-09.58.00.jpeg
ORGANIZER;CN="Squadra LOGO":MAILTO:logo@cvpc.it
END:VEVENT
BEGIN:VEVENT
DTSTART;TZID=Europe/Rome:20250525T080000
DTEND;TZID=Europe/Rome:20250525T170000
DTSTAMP:20260423T143108
CREATED:20250416T044953Z
LAST-MODIFIED:20251003T101131Z
UID:5092-1748160000-1748192400@www.cvpc.it
SUMMARY:Trasporto Madonna di Fatima
DESCRIPTION:Trasporto Madonna di Fatima \nLa Madonna vola in elicottero ma in caso di maltempo trasporto con furgone. \nPartenza da Casorate Sempione (VA) ed arrivo a Cederna (MB).
URL:https://www.cvpc.it/index.php/evento/trasporto-madonna-di-fatima-9/
CATEGORIES:Associazione
ATTACH;FMTTYPE=image/jpeg:https://www.cvpc.it/wp-content/uploads/2023/04/fatima.jpg
ORGANIZER;CN="Associazione CVPC":MAILTO:info@cvpc.it
END:VEVENT
BEGIN:VEVENT
DTSTART;TZID=Europe/Rome:20250528T210000
DTEND;TZID=Europe/Rome:20250528T230000
DTSTAMP:20260423T143108
CREATED:20250526T063834Z
LAST-MODIFIED:20251003T101120Z
UID:5252-1748466000-1748473200@www.cvpc.it
SUMMARY:Call associativa
DESCRIPTION:Call associativa \nin mattinata verrà mandato il link
URL:https://www.cvpc.it/index.php/evento/call-associativa/
CATEGORIES:Associazione
ATTACH;FMTTYPE=image/jpeg:https://www.cvpc.it/wp-content/uploads/2023/04/CVPC-Logo.jpg
ORGANIZER;CN="Associazione CVPC":MAILTO:info@cvpc.it
END:VEVENT
END:VCALENDAR