BEGIN:VCALENDAR
VERSION:2.0
PRODID:-//Corpo Volontari Protezione Civile - Milano - ECPv6.11.2.1//NONSGML v1.0//EN
CALSCALE:GREGORIAN
METHOD:PUBLISH
X-WR-CALNAME:Corpo Volontari Protezione Civile - Milano
X-ORIGINAL-URL:https://www.cvpc.it
X-WR-CALDESC:Eventi per Corpo Volontari Protezione Civile - Milano
REFRESH-INTERVAL;VALUE=DURATION:PT1H
X-Robots-Tag:noindex
X-PUBLISHED-TTL:PT1H
BEGIN:VTIMEZONE
TZID:Europe/Rome
BEGIN:DAYLIGHT
TZOFFSETFROM:+0100
TZOFFSETTO:+0200
TZNAME:CEST
DTSTART:20240331T010000
END:DAYLIGHT
BEGIN:STANDARD
TZOFFSETFROM:+0200
TZOFFSETTO:+0100
TZNAME:CET
DTSTART:20241027T010000
END:STANDARD
BEGIN:DAYLIGHT
TZOFFSETFROM:+0100
TZOFFSETTO:+0200
TZNAME:CEST
DTSTART:20250330T010000
END:DAYLIGHT
BEGIN:STANDARD
TZOFFSETFROM:+0200
TZOFFSETTO:+0100
TZNAME:CET
DTSTART:20251026T010000
END:STANDARD
END:VTIMEZONE
BEGIN:VTIMEZONE
TZID:Europe/Paris
BEGIN:DAYLIGHT
TZOFFSETFROM:+0100
TZOFFSETTO:+0200
TZNAME:CEST
DTSTART:20240331T010000
END:DAYLIGHT
BEGIN:STANDARD
TZOFFSETFROM:+0200
TZOFFSETTO:+0100
TZNAME:CET
DTSTART:20241027T010000
END:STANDARD
BEGIN:DAYLIGHT
TZOFFSETFROM:+0100
TZOFFSETTO:+0200
TZNAME:CEST
DTSTART:20250330T010000
END:DAYLIGHT
BEGIN:STANDARD
TZOFFSETFROM:+0200
TZOFFSETTO:+0100
TZNAME:CET
DTSTART:20251026T010000
END:STANDARD
END:VTIMEZONE
BEGIN:VEVENT
DTSTART;TZID=Europe/Rome:20250525T080000
DTEND;TZID=Europe/Rome:20250525T170000
DTSTAMP:20260423T131058
CREATED:20250416T044953Z
LAST-MODIFIED:20251003T101131Z
UID:5092-1748160000-1748192400@www.cvpc.it
SUMMARY:Trasporto Madonna di Fatima
DESCRIPTION:Trasporto Madonna di Fatima \nLa Madonna vola in elicottero ma in caso di maltempo trasporto con furgone. \nPartenza da Casorate Sempione (VA) ed arrivo a Cederna (MB).
URL:https://www.cvpc.it/index.php/evento/trasporto-madonna-di-fatima-9/
CATEGORIES:Associazione
ATTACH;FMTTYPE=image/jpeg:https://www.cvpc.it/wp-content/uploads/2023/04/fatima.jpg
ORGANIZER;CN="Associazione CVPC":MAILTO:info@cvpc.it
END:VEVENT
BEGIN:VEVENT
DTSTART;TZID=Europe/Rome:20250518T080000
DTEND;TZID=Europe/Rome:20250518T170000
DTSTAMP:20260423T131058
CREATED:20250506T195832Z
LAST-MODIFIED:20251003T101140Z
UID:5205-1747555200-1747587600@www.cvpc.it
SUMMARY:Addestramento Taglio + squadre
DESCRIPTION:Addestramento Taglio + squadre
URL:https://www.cvpc.it/index.php/evento/addestramento-idro/
LOCATION:Sede CCV Milano\, Via Idroscalo\, INGRESSO SUD\, 2D\, Peschiera Borromeo\, 20068
CATEGORIES:Associazione
ATTACH;FMTTYPE=image/jpeg:https://www.cvpc.it/wp-content/uploads/2025/02/WhatsApp-Image-2025-02-19-at-09.58.00.jpeg
ORGANIZER;CN="Squadra LOGO":MAILTO:logo@cvpc.it
END:VEVENT
BEGIN:VEVENT
DTSTART;TZID=Europe/Rome:20250518T080000
DTEND;TZID=Europe/Rome:20250518T170000
DTSTAMP:20260423T131058
CREATED:20250416T044413Z
LAST-MODIFIED:20251003T101149Z
UID:5089-1747555200-1747587600@www.cvpc.it
SUMMARY:Trasporto Madonna di Fatima
DESCRIPTION:Trasporto Madonna di Fatima \nLa Madonna vola in elicottero ma in caso di maltempo trasporto con furgone. \nPartenza da Capriolo (BS) ed arrivo ad Arsago Seprio (VA) e poi Casorate Sempione (VA).
URL:https://www.cvpc.it/index.php/evento/trasporto-madonna-di-fatima-8/
CATEGORIES:Associazione
ATTACH;FMTTYPE=image/jpeg:https://www.cvpc.it/wp-content/uploads/2023/04/fatima.jpg
ORGANIZER;CN="Associazione CVPC":MAILTO:info@cvpc.it
END:VEVENT
BEGIN:VEVENT
DTSTART;TZID=Europe/Rome:20250513T190000
DTEND;TZID=Europe/Rome:20250513T233000
DTSTAMP:20260423T131058
CREATED:20250402T193423Z
LAST-MODIFIED:20251003T101158Z
UID:4991-1747162800-1747179000@www.cvpc.it
SUMMARY:Processione Madonna di Fatima
DESCRIPTION:Processione Madonna di Fatima
URL:https://www.cvpc.it/index.php/evento/processione-madonna-di-fatima-2/
LOCATION:Basilica di San Vittore al Corpo\, Via San Vittore\, 25\, Milano\, 20122\, Italia
CATEGORIES:Associazione
ATTACH;FMTTYPE=image/jpeg:https://www.cvpc.it/wp-content/uploads/2023/01/logo_cvpc_16-9.jpg
ORGANIZER;CN="Associazione CVPC":MAILTO:info@cvpc.it
END:VEVENT
BEGIN:VEVENT
DTSTART;TZID=Europe/Rome:20250512T190000
DTEND;TZID=Europe/Rome:20250512T190000
DTSTAMP:20260423T131058
CREATED:20250416T043759Z
LAST-MODIFIED:20251003T101232Z
UID:5086-1747076400-1747076400@www.cvpc.it
SUMMARY:Trasporto Madonna di Fatima
DESCRIPTION:Trasporto Madonna di Fatima \nRitrovo alle ore 20.00 da don Vittorio\, partenza da Capriolo (BS) a prendere la Madonna e portarla a San Vittore al Corpo.
URL:https://www.cvpc.it/index.php/evento/trasporto-madonna-di-fatima-7/
CATEGORIES:Associazione
ATTACH;FMTTYPE=image/jpeg:https://www.cvpc.it/wp-content/uploads/2023/04/fatima.jpg
ORGANIZER;CN="Associazione CVPC":MAILTO:info@cvpc.it
END:VEVENT
BEGIN:VEVENT
DTSTART;TZID=Europe/Rome:20250511T080000
DTEND;TZID=Europe/Rome:20250511T170000
DTSTAMP:20260423T131058
CREATED:20250416T051133Z
LAST-MODIFIED:20251003T101241Z
UID:5107-1746950400-1746982800@www.cvpc.it
SUMMARY:Trasporto Madonna di Fatima
DESCRIPTION:Trasporto Madonna di Fatima \nLa Madonna vola in elicottero ma in caso di maltempo trasporto con furgone. \nPartenza da Spirano (BG) ed arrivo a Capriolo (BS).
URL:https://www.cvpc.it/index.php/evento/trasporto-madonna-di-fatima-13/
CATEGORIES:Associazione
ATTACH;FMTTYPE=image/jpeg:https://www.cvpc.it/wp-content/uploads/2023/04/fatima.jpg
ORGANIZER;CN="Associazione CVPC":MAILTO:info@cvpc.it
END:VEVENT
BEGIN:VEVENT
DTSTART;TZID=Europe/Rome:20250511T080000
DTEND;TZID=Europe/Rome:20250511T130000
DTSTAMP:20260423T131058
CREATED:20250421T175635Z
LAST-MODIFIED:20251003T101250Z
UID:5168-1746950400-1746968400@www.cvpc.it
SUMMARY:StraWoman
DESCRIPTION:Assistenza corsa podistica Milano
URL:https://www.cvpc.it/index.php/evento/strawoman/
CATEGORIES:Associazione
ATTACH;FMTTYPE=image/jpeg:https://www.cvpc.it/wp-content/uploads/2023/04/CVPC-Logo.jpg
ORGANIZER;CN="Associazione CVPC":MAILTO:info@cvpc.it
END:VEVENT
BEGIN:VEVENT
DTSTART;TZID=Europe/Rome:20250510T073000
DTEND;TZID=Europe/Rome:20250510T130000
DTSTAMP:20260423T131058
CREATED:20250402T191158Z
LAST-MODIFIED:20251003T101259Z
UID:4975-1746862200-1746882000@www.cvpc.it
SUMMARY:Lezione scuola 2a media presso scuola di Canegrate via dei Partigiani
DESCRIPTION:Lezione scuola 2a media presso scuola di Canegrate via dei Partigiani
URL:https://www.cvpc.it/index.php/evento/lezione-scuola-2a-media/
CATEGORIES:Associazione
ATTACH;FMTTYPE=image/jpeg:https://www.cvpc.it/wp-content/uploads/2023/01/logo_cvpc_16-9.jpg
ORGANIZER;CN="Associazione CVPC":MAILTO:info@cvpc.it
END:VEVENT
BEGIN:VEVENT
DTSTART;TZID=Europe/Rome:20250508T210000
DTEND;TZID=Europe/Rome:20250508T220000
DTSTAMP:20260423T131058
CREATED:20250404T182812Z
LAST-MODIFIED:20251003T101415Z
UID:5014-1746738000-1746741600@www.cvpc.it
SUMMARY:Open Day
DESCRIPTION:
URL:https://www.cvpc.it/index.php/evento/open-day-2/
LOCATION:Sede CVPC\, Via Fratelli Zoia\, 10\, Milano\, 20155\, Italia
CATEGORIES:Associazione
ATTACH;FMTTYPE=image/jpeg:https://www.cvpc.it/wp-content/uploads/2023/01/logo_cvpc_16-9.jpg
ORGANIZER;CN="Associazione CVPC":MAILTO:info@cvpc.it
END:VEVENT
BEGIN:VEVENT
DTSTART;TZID=Europe/Rome:20250417T210000
DTEND;TZID=Europe/Rome:20250417T230000
DTSTAMP:20260423T131058
CREATED:20250402T190920Z
LAST-MODIFIED:20250402T190920Z
UID:4973-1744923600-1744930800@www.cvpc.it
SUMMARY:Confronto CVPC / (recupero) ed OdV Canegrate con Carrera Marco
DESCRIPTION:Confronto CVPC / (recupero) ed OdV Canegrate con Carrera Marco
URL:https://www.cvpc.it/index.php/evento/confronto-cvpc-recupero-ed-odv-canegrate-con-carrera-marco/
LOCATION:Sede CVPC\, Via Fratelli Zoia\, 10\, Milano\, 20155\, Italia
CATEGORIES:Squadra REC
ATTACH;FMTTYPE=image/jpeg:https://www.cvpc.it/wp-content/uploads/2023/01/logo_rec_16-9.jpg
ORGANIZER;CN="Squadra REC":MAILTO:rec@cvpc.it
END:VEVENT
BEGIN:VEVENT
DTSTART;TZID=Europe/Rome:20250415T210000
DTEND;TZID=Europe/Rome:20250415T210000
DTSTAMP:20260423T131058
CREATED:20250402T092454Z
LAST-MODIFIED:20250402T193832Z
UID:4965-1744750800-1744750800@www.cvpc.it
SUMMARY:Addestramento di squadra TCom
DESCRIPTION:Addestramento di squadra TCom
URL:https://www.cvpc.it/index.php/evento/addestramento-di-squadra-tcom-3/
LOCATION:Sede CVPC\, Via Fratelli Zoia\, 10\, Milano\, 20155\, Italia
CATEGORIES:Squadra TCOM
ATTACH;FMTTYPE=image/jpeg:https://www.cvpc.it/wp-content/uploads/2023/01/logo_tcom_16-9.jpg
ORGANIZER;CN="Squadra TCOM":MAILTO:tcom@cvpc.it
END:VEVENT
BEGIN:VEVENT
DTSTART;TZID=Europe/Rome:20250410T210000
DTEND;TZID=Europe/Rome:20250410T220000
DTSTAMP:20260423T131058
CREATED:20250404T182357Z
LAST-MODIFIED:20250404T183048Z
UID:5012-1744318800-1744322400@www.cvpc.it
SUMMARY:Open Day
DESCRIPTION:
URL:https://www.cvpc.it/index.php/evento/open-day/
LOCATION:Sede CVPC\, Via Fratelli Zoia\, 10\, Milano\, 20155\, Italia
CATEGORIES:Associazione
ATTACH;FMTTYPE=image/jpeg:https://www.cvpc.it/wp-content/uploads/2023/01/logo_cvpc_16-9.jpg
ORGANIZER;CN="Associazione CVPC":MAILTO:info@cvpc.it
END:VEVENT
BEGIN:VEVENT
DTSTART;TZID=Europe/Rome:20250327T210000
DTEND;TZID=Europe/Rome:20250327T230000
DTSTAMP:20260423T131058
CREATED:20250311T191028Z
LAST-MODIFIED:20250325T191109Z
UID:4891-1743109200-1743116400@www.cvpc.it
SUMMARY:** ANNULLATA ** Serata a tema sul DMR (Digital Mobile Radio) ** ANNULLATA **
DESCRIPTION:** ANNULLATA **  Serata a tema sul DMR (Digital Mobile Radio) tenuta da Airaghi Amelio. ** ANNULLATA **
URL:https://www.cvpc.it/index.php/evento/serata-a-tema-sul-dmr-digital-mobile-radio/
LOCATION:Sede CVPC\, Via Fratelli Zoia\, 10\, Milano\, 20155\, Italia
CATEGORIES:Squadra TCOM
ATTACH;FMTTYPE=image/jpeg:https://www.cvpc.it/wp-content/uploads/2023/01/logo_tcom_16-9.jpg
ORGANIZER;CN="Squadra TCOM":MAILTO:tcom@cvpc.it
END:VEVENT
BEGIN:VEVENT
DTSTART;TZID=Europe/Rome:20250324T210000
DTEND;TZID=Europe/Rome:20250324T230000
DTSTAMP:20260423T131058
CREATED:20250304T151308Z
LAST-MODIFIED:20250304T151308Z
UID:4878-1742850000-1742857200@www.cvpc.it
SUMMARY:Addestramento di squadra TCom
DESCRIPTION:Addestramento di squadra TCom
URL:https://www.cvpc.it/index.php/evento/addestramento-di-squadra-tcom/
LOCATION:Sede CVPC\, Via Fratelli Zoia\, 10\, Milano\, 20155\, Italia
CATEGORIES:Squadra TCOM
ATTACH;FMTTYPE=image/jpeg:https://www.cvpc.it/wp-content/uploads/2023/01/logo_tcom_16-9.jpg
ORGANIZER;CN="Squadra TCOM":MAILTO:tcom@cvpc.it
END:VEVENT
BEGIN:VEVENT
DTSTART;TZID=Europe/Paris:20250323T080000
DTEND;TZID=Europe/Paris:20250323T170000
DTSTAMP:20260423T131058
CREATED:20250201T211454Z
LAST-MODIFIED:20250218T154339Z
UID:4734-1742716800-1742749200@www.cvpc.it
SUMMARY:Aggiornamento Taglio Esbosco Idroscalo
DESCRIPTION:Aggiornamento Taglio Esbosco Idroscalo
URL:https://www.cvpc.it/index.php/evento/aggiornamento-taglio-esbosco-idroscalo/
LOCATION:Sede CCV Milano\, Via Idroscalo\, INGRESSO SUD\, 2D\, Peschiera Borromeo\, 20068
CATEGORIES:Associazione
ATTACH;FMTTYPE=image/jpeg:https://www.cvpc.it/wp-content/uploads/2023/01/logo_cvpc_16-9.jpg
ORGANIZER;CN="Associazione CVPC":MAILTO:info@cvpc.it
END:VEVENT
BEGIN:VEVENT
DTSTART;TZID=Europe/Rome:20250302T080000
DTEND;TZID=Europe/Rome:20250302T130000
DTSTAMP:20260423T131058
CREATED:20250201T210238Z
LAST-MODIFIED:20250219T194100Z
UID:4731-1740902400-1740920400@www.cvpc.it
SUMMARY:Montaggio tende & Scuola guida
DESCRIPTION:Montaggio tende & Scuola guida
URL:https://www.cvpc.it/index.php/evento/montaggio-tende-scuola-guida/
LOCATION:Via Novara Ex Hub Covid\, Via Novara\, Milano\, Select an option...\, Italy
CATEGORIES:Associazione
ATTACH;FMTTYPE=image/jpeg:https://www.cvpc.it/wp-content/uploads/2023/04/CVPC-Logo.jpg
ORGANIZER;CN="Associazione CVPC":MAILTO:info@cvpc.it
END:VEVENT
BEGIN:VEVENT
DTSTART;TZID=Europe/Paris:20250219T211500
DTEND;TZID=Europe/Paris:20250219T230000
DTSTAMP:20260423T131058
CREATED:20250119T171642Z
LAST-MODIFIED:20250208T115327Z
UID:4661-1739999700-1740006000@www.cvpc.it
SUMMARY:REC - Formazione NODI E CORDE online
DESCRIPTION:
URL:https://www.cvpc.it/index.php/evento/rec-formazione-nodi-e-corde-online/
LOCATION:On-Line
CATEGORIES:Squadra REC
ATTACH;FMTTYPE=image/jpeg:https://www.cvpc.it/wp-content/uploads/2023/01/logo_rec_16-9.jpg
ORGANIZER;CN="Squadra REC":MAILTO:rec@cvpc.it
END:VEVENT
BEGIN:VEVENT
DTSTART;TZID=Europe/Paris:20250216T080000
DTEND;TZID=Europe/Paris:20250216T150000
DTSTAMP:20260423T131058
CREATED:20250119T171939Z
LAST-MODIFIED:20250119T171939Z
UID:4664-1739692800-1739718000@www.cvpc.it
SUMMARY:LOGO+REC+TCOM - Addestramento congiunto IDROGEOLOGICO
DESCRIPTION:
URL:https://www.cvpc.it/index.php/evento/logorectcom-addestramento-congiunto-idrogeologico/
LOCATION:Sede CVPC\, Via Fratelli Zoia\, 10\, Milano\, 20155\, Italia
CATEGORIES:Squadra LOGO,Squadra REC,Squadra TCOM
ATTACH;FMTTYPE=image/jpeg:https://www.cvpc.it/wp-content/uploads/2023/04/CVPC-Logo.jpg
ORGANIZER;CN="Squadra LOGO":MAILTO:logo@cvpc.it
END:VEVENT
BEGIN:VEVENT
DTSTART;TZID=Europe/Paris:20250205T211500
DTEND;TZID=Europe/Paris:20250205T230000
DTSTAMP:20260423T131058
CREATED:20250119T171426Z
LAST-MODIFIED:20250119T171426Z
UID:4658-1738790100-1738796400@www.cvpc.it
SUMMARY:LOGO - Formazione IDROGEOLOGICO on line
DESCRIPTION:
URL:https://www.cvpc.it/index.php/evento/logo-formazione-idrogeologico-on-line/
LOCATION:On-Line
CATEGORIES:Squadra LOGO
ATTACH;FMTTYPE=image/jpeg:https://www.cvpc.it/wp-content/uploads/2023/01/logo_logo_16-9.jpg
ORGANIZER;CN="Squadra LOGO":MAILTO:logo@cvpc.it
END:VEVENT
BEGIN:VEVENT
DTSTART;TZID=Europe/Rome:20250203T210000
DTEND;TZID=Europe/Rome:20250203T230000
DTSTAMP:20260423T131058
CREATED:20250107T094125Z
LAST-MODIFIED:20250119T170432Z
UID:4618-1738616400-1738623600@www.cvpc.it
SUMMARY:TCom - Addestramento di squadra - invitata sq. reperibili n. 1 e n. 4
DESCRIPTION:TCom – Addestramento di squadra – invitata sq. reperibili n. 1 e n. 4
URL:https://www.cvpc.it/index.php/evento/tcom-esercitazione-di-squadra/
LOCATION:Sede CVPC\, Via Fratelli Zoia\, 10\, Milano\, 20155\, Italia
CATEGORIES:Squadra TCOM
ATTACH;FMTTYPE=image/jpeg:https://www.cvpc.it/wp-content/uploads/2023/01/logo_tcom_16-9.jpg
ORGANIZER;CN="Squadra TCOM":MAILTO:tcom@cvpc.it
END:VEVENT
BEGIN:VEVENT
DTSTART;TZID=Europe/Paris:20250129T210000
DTEND;TZID=Europe/Paris:20250129T230000
DTSTAMP:20260423T131058
CREATED:20250119T170041Z
LAST-MODIFIED:20250119T170041Z
UID:4654-1738184400-1738191600@www.cvpc.it
SUMMARY:LOGO - INVENTARIO MAGAZZINO
DESCRIPTION:
URL:https://www.cvpc.it/index.php/evento/logo-inventario-magazzino-2/
LOCATION:Sede CVPC\, Via Fratelli Zoia\, 10\, Milano\, 20155\, Italia
CATEGORIES:Squadra LOGO
ATTACH;FMTTYPE=image/gif:https://www.cvpc.it/wp-content/uploads/2021/08/logo_logo.gif
ORGANIZER;CN="Squadra LOGO":MAILTO:logo@cvpc.it
END:VEVENT
BEGIN:VEVENT
DTSTART;TZID=Europe/Paris:20250123T221500
DTEND;TZID=Europe/Paris:20250123T224500
DTSTAMP:20260423T131058
CREATED:20250119T165833Z
LAST-MODIFIED:20250119T172631Z
UID:4650-1737670500-1737672300@www.cvpc.it
SUMMARY:LOGO- RIUNIONE DI SQUADRA
DESCRIPTION:Riprendiamo la riunione mensile di Squadra Logistica. Sarà a valle del giro mezzi per la squadra reperibile. Possibilità di collegarsi online
URL:https://www.cvpc.it/index.php/evento/logo-riunione-di-squadra/
LOCATION:Sede CVPC\, Via Fratelli Zoia\, 10\, Milano\, 20155\, Italia
CATEGORIES:Squadra LOGO
ATTACH;FMTTYPE=image/gif:https://www.cvpc.it/wp-content/uploads/2021/08/logo_logo.gif
END:VEVENT
BEGIN:VEVENT
DTSTART;TZID=Europe/Paris:20250122T210000
DTEND;TZID=Europe/Paris:20250122T230000
DTSTAMP:20260423T131058
CREATED:20250119T165332Z
LAST-MODIFIED:20250119T165333Z
UID:4645-1737579600-1737586800@www.cvpc.it
SUMMARY:LOGO- INVENTARIO MAGAZZINO
DESCRIPTION:Dedichiamo due serate alla revisione annuale dell’inventario del Magazzino opertivo Logistica
URL:https://www.cvpc.it/index.php/evento/logo-inventario-magazzino/
LOCATION:Sede CVPC\, Via Fratelli Zoia\, 10\, Milano\, 20155\, Italia
CATEGORIES:Squadra LOGO
ATTACH;FMTTYPE=image/jpeg:https://www.cvpc.it/wp-content/uploads/2023/01/logo_logo_16-9.jpg
ORGANIZER;CN="Squadra LOGO":MAILTO:logo@cvpc.it
END:VEVENT
BEGIN:VEVENT
DTSTART;TZID=Europe/Rome:20250122T210000
DTEND;TZID=Europe/Rome:20250122T220000
DTSTAMP:20260423T131058
CREATED:20250119T173629Z
LAST-MODIFIED:20250119T175424Z
UID:4673-1737579600-1737583200@www.cvpc.it
SUMMARY:TCom - riunione di squadra online
DESCRIPTION:TCom – riunione di squadra online ore 21.00
URL:https://www.cvpc.it/index.php/evento/tcom-riunione-di-squadra-online/
CATEGORIES:Squadra TCOM
ATTACH;FMTTYPE=image/jpeg:https://www.cvpc.it/wp-content/uploads/2023/01/logo_tcom_16-9.jpg
END:VEVENT
BEGIN:VEVENT
DTSTART;TZID=Europe/Rome:20250118T080000
DTEND;TZID=Europe/Rome:20250118T123000
DTSTAMP:20260423T131058
CREATED:20250110T080346Z
LAST-MODIFIED:20250110T080346Z
UID:4625-1737187200-1737203400@www.cvpc.it
SUMMARY:Addestramento congiunto Squadra REC e LOGO
DESCRIPTION:Addestramento congiunto Squadra REC e LOGO
URL:https://www.cvpc.it/index.php/evento/addestramento-congiunto-squadra-rec-e-logo/
LOCATION:Sede CVPC\, Via Fratelli Zoia\, 10\, Milano\, 20155\, Italia
CATEGORIES:Squadra LOGO,Squadra REC
ATTACH;FMTTYPE=image/jpeg:https://www.cvpc.it/wp-content/uploads/2023/01/logo_rec_16-9.jpg
ORGANIZER;CN="Squadra REC":MAILTO:rec@cvpc.it
END:VEVENT
BEGIN:VEVENT
DTSTART;TZID=Europe/Paris:20241121T203000
DTEND;TZID=Europe/Paris:20241121T230000
DTSTAMP:20260423T131058
CREATED:20241105T210554Z
LAST-MODIFIED:20241120T070506Z
UID:4463-1732221000-1732230000@www.cvpc.it
SUMMARY:Addestramento pagode- RIMANDATO
DESCRIPTION:Vedremo la procedura di montaggio e smontaggio delle pagode. \nAddestramento aperto a tutte le Squadre \nADDESTRAMENTO RIMANDATO\, per dare precedenza a scarico e manutezione mezzi dopo esercitazione
URL:https://www.cvpc.it/index.php/evento/addestramento-pagode/
LOCATION:Sede CVPC\, Via Fratelli Zoia\, 10\, Milano\, 20155\, Italia
CATEGORIES:Squadra LOGO
ATTACH;FMTTYPE=image/jpeg:https://www.cvpc.it/wp-content/uploads/2023/01/logo_logo_16-9.jpg
ORGANIZER;CN="Squadra LOGO":MAILTO:logo@cvpc.it
END:VEVENT
BEGIN:VEVENT
DTSTART;TZID=Europe/Paris:20241116T080000
DTEND;TZID=Europe/Paris:20241117T170000
DTSTAMP:20260423T131058
CREATED:20240819T044346Z
LAST-MODIFIED:20241025T110059Z
UID:4209-1731744000-1731862800@www.cvpc.it
SUMMARY:Esercitazione di Città metropolitana.
DESCRIPTION:Esercitazione di Città metropolitana. \nSeguiranno aggiornamenti.
URL:https://www.cvpc.it/index.php/evento/esercitazione-di-citta-metropolitana-2/
CATEGORIES:Associazione
ATTACH;FMTTYPE=image/jpeg:https://www.cvpc.it/wp-content/uploads/2023/01/logo_cvpc_16-9.jpg
ORGANIZER;CN="Associazione CVPC":MAILTO:info@cvpc.it
END:VEVENT
BEGIN:VEVENT
DTSTART;TZID=Europe/Paris:20241107T203000
DTEND;TZID=Europe/Paris:20241107T230000
DTSTAMP:20260423T131058
CREATED:20241028T082018Z
LAST-MODIFIED:20241028T082018Z
UID:4454-1731011400-1731020400@www.cvpc.it
SUMMARY:Addestramento carico mezzi
DESCRIPTION:Carico furgoni e lista di carivo. Aperto a tutte le Squadre
URL:https://www.cvpc.it/index.php/evento/addestramento-carico-mezzi/
LOCATION:Sede CVPC\, Via Fratelli Zoia\, 10\, Milano\, 20155\, Italia
CATEGORIES:Squadra LOGO
ATTACH;FMTTYPE=image/jpeg:https://www.cvpc.it/wp-content/uploads/2023/01/logo_logo_16-9.jpg
END:VEVENT
BEGIN:VEVENT
DTSTART;TZID=Europe/Paris:20241027T080000
DTEND;TZID=Europe/Paris:20241027T170000
DTSTAMP:20260423T131058
CREATED:20240923T191836Z
LAST-MODIFIED:20241015T192418Z
UID:4275-1730016000-1730048400@www.cvpc.it
SUMMARY:Addestramento associativo
DESCRIPTION:
URL:https://www.cvpc.it/index.php/evento/addestramento-associativo/
LOCATION:Sede CVPC\, Via Fratelli Zoia\, 10\, Milano\, 20155\, Italia
CATEGORIES:Squadra LOGO,Squadra REC,Squadra TCOM
ATTACH;FMTTYPE=image/jpeg:https://www.cvpc.it/wp-content/uploads/2023/04/CVPC-Logo.jpg
ORGANIZER;CN="Squadra LOGO":MAILTO:logo@cvpc.it
END:VEVENT
BEGIN:VEVENT
DTSTART;TZID=Europe/Rome:20241020T070000
DTEND;TZID=Europe/Rome:20241020T190000
DTSTAMP:20260423T131058
CREATED:20241011T091058Z
LAST-MODIFIED:20241014T175510Z
UID:4306-1729407600-1729450800@www.cvpc.it
SUMMARY:Sagra di Baggio
DESCRIPTION:Ritrovo ore 7.15 in zona Piazza Stovani: \nPrimo turno: 07.30 – 13.30 \nSecondo turno: 13.30 – 18.30 circa \n 
URL:https://www.cvpc.it/index.php/evento/sagra-di-baggio-4/
CATEGORIES:Associazione
ATTACH;FMTTYPE=image/jpeg:https://www.cvpc.it/wp-content/uploads/2023/10/5998fa44-faca-4fb4-9026-af23d3dead81.jpg
ORGANIZER;CN="Associazione CVPC":MAILTO:info@cvpc.it
END:VEVENT
END:VCALENDAR