BEGIN:VCALENDAR
VERSION:2.0
PRODID:-//Corpo Volontari Protezione Civile - Milano - ECPv6.11.2.1//NONSGML v1.0//EN
CALSCALE:GREGORIAN
METHOD:PUBLISH
X-WR-CALNAME:Corpo Volontari Protezione Civile - Milano
X-ORIGINAL-URL:https://www.cvpc.it
X-WR-CALDESC:Eventi per Corpo Volontari Protezione Civile - Milano
REFRESH-INTERVAL;VALUE=DURATION:PT1H
X-Robots-Tag:noindex
X-PUBLISHED-TTL:PT1H
BEGIN:VTIMEZONE
TZID:Europe/Rome
BEGIN:DAYLIGHT
TZOFFSETFROM:+0100
TZOFFSETTO:+0200
TZNAME:CEST
DTSTART:20260329T010000
END:DAYLIGHT
BEGIN:STANDARD
TZOFFSETFROM:+0200
TZOFFSETTO:+0100
TZNAME:CET
DTSTART:20261025T010000
END:STANDARD
END:VTIMEZONE
BEGIN:VEVENT
DTSTART;TZID=Europe/Rome:20260312T210000
DTEND;TZID=Europe/Rome:20260312T220000
DTSTAMP:20260423T072239
CREATED:20260218T163858Z
LAST-MODIFIED:20260316T194648Z
UID:5896-1773349200-1773352800@www.cvpc.it
SUMMARY:Open Day
DESCRIPTION:
URL:https://www.cvpc.it/index.php/evento/open-day-3/
LOCATION:Sede CVPC\, Via Fratelli Zoia\, 10\, Milano\, 20155\, Italia
CATEGORIES:Associazione
ATTACH;FMTTYPE=image/jpeg:https://www.cvpc.it/wp-content/uploads/2023/04/CVPC-Logo.jpg
ORGANIZER;CN="Associazione CVPC":MAILTO:info@cvpc.it
END:VEVENT
END:VCALENDAR