BEGIN:VCALENDAR
VERSION:2.0
PRODID:-//Corpo Volontari Protezione Civile - Milano - ECPv6.11.2.1//NONSGML v1.0//EN
CALSCALE:GREGORIAN
METHOD:PUBLISH
X-ORIGINAL-URL:https://www.cvpc.it
X-WR-CALDESC:Eventi per Corpo Volontari Protezione Civile - Milano
REFRESH-INTERVAL;VALUE=DURATION:PT1H
X-Robots-Tag:noindex
X-PUBLISHED-TTL:PT1H
BEGIN:VTIMEZONE
TZID:Europe/Rome
BEGIN:DAYLIGHT
TZOFFSETFROM:+0100
TZOFFSETTO:+0200
TZNAME:CEST
DTSTART:20260329T010000
END:DAYLIGHT
BEGIN:STANDARD
TZOFFSETFROM:+0200
TZOFFSETTO:+0100
TZNAME:CET
DTSTART:20261025T010000
END:STANDARD
END:VTIMEZONE
BEGIN:VEVENT
DTSTART;TZID=Europe/Rome:20260531T080000
DTEND;TZID=Europe/Rome:20260531T170000
DTSTAMP:20260423T090009
CREATED:20260324T203024Z
LAST-MODIFIED:20260324T203024Z
UID:5988-1780214400-1780246800@www.cvpc.it
SUMMARY:Trasporto Madonna di Fatima
DESCRIPTION:Trasporto Madonna di Fatima
URL:https://www.cvpc.it/index.php/evento/trasporto-madonna-di-fatima-20/
CATEGORIES:Associazione
ATTACH;FMTTYPE=image/jpeg:https://www.cvpc.it/wp-content/uploads/2023/04/fatima.jpg
ORGANIZER;CN="Associazione CVPC":MAILTO:info@cvpc.it
END:VEVENT
BEGIN:VEVENT
DTSTART;TZID=Europe/Rome:20260607T080000
DTEND;TZID=Europe/Rome:20260607T170000
DTSTAMP:20260423T090009
CREATED:20260324T203243Z
LAST-MODIFIED:20260324T203243Z
UID:5991-1780819200-1780851600@www.cvpc.it
SUMMARY:Trasporto Madonna di Fatima da confermare
DESCRIPTION:Trasporto Madonna di Fatima da confermare
URL:https://www.cvpc.it/index.php/evento/trasporto-madonna-di-fatima-da-confermare-2/
CATEGORIES:Associazione
ATTACH;FMTTYPE=image/jpeg:https://www.cvpc.it/wp-content/uploads/2023/04/fatima.jpg
ORGANIZER;CN="Associazione CVPC":MAILTO:info@cvpc.it
END:VEVENT
END:VCALENDAR