BEGIN:VCALENDAR
VERSION:2.0
PRODID:-//Corpo Volontari Protezione Civile - Milano - ECPv6.11.2.1//NONSGML v1.0//EN
CALSCALE:GREGORIAN
METHOD:PUBLISH
X-ORIGINAL-URL:https://www.cvpc.it
X-WR-CALDESC:Eventi per Corpo Volontari Protezione Civile - Milano
REFRESH-INTERVAL;VALUE=DURATION:PT1H
X-Robots-Tag:noindex
X-PUBLISHED-TTL:PT1H
BEGIN:VTIMEZONE
TZID:Europe/Rome
BEGIN:DAYLIGHT
TZOFFSETFROM:+0100
TZOFFSETTO:+0200
TZNAME:CEST
DTSTART:20260329T010000
END:DAYLIGHT
BEGIN:STANDARD
TZOFFSETFROM:+0200
TZOFFSETTO:+0100
TZNAME:CET
DTSTART:20261025T010000
END:STANDARD
END:VTIMEZONE
BEGIN:VEVENT
DTSTART;TZID=Europe/Rome:20260425T080000
DTEND;TZID=Europe/Rome:20260425T170000
DTSTAMP:20260423T004123
CREATED:20260324T200542Z
LAST-MODIFIED:20260331T071750Z
UID:5967-1777104000-1777136400@www.cvpc.it
SUMMARY:Trasporto Madonna di Fatima da confermare
DESCRIPTION:Trasporto Madonna di Fatima da confermare
URL:https://www.cvpc.it/index.php/evento/trasporto-madonna-di-fatima-da-confermare/
CATEGORIES:Associazione
ATTACH;FMTTYPE=image/jpeg:https://www.cvpc.it/wp-content/uploads/2023/04/fatima.jpg
ORGANIZER;CN="Associazione CVPC":MAILTO:info@cvpc.it
END:VEVENT
BEGIN:VEVENT
DTSTART;TZID=Europe/Rome:20260503T080000
DTEND;TZID=Europe/Rome:20260503T170000
DTSTAMP:20260423T004123
CREATED:20260324T200815Z
LAST-MODIFIED:20260324T200815Z
UID:5970-1777795200-1777827600@www.cvpc.it
SUMMARY:Trasporto Madonna di Fatima
DESCRIPTION:Trasporto Madonna di Fatima
URL:https://www.cvpc.it/index.php/evento/trasporto-madonna-di-fatima-14/
CATEGORIES:Associazione
ATTACH;FMTTYPE=image/jpeg:https://www.cvpc.it/wp-content/uploads/2023/04/fatima.jpg
ORGANIZER;CN="Associazione CVPC":MAILTO:info@cvpc.it
END:VEVENT
BEGIN:VEVENT
DTSTART;TZID=Europe/Rome:20260509T080000
DTEND;TZID=Europe/Rome:20260509T170000
DTSTAMP:20260423T004123
CREATED:20260324T201116Z
LAST-MODIFIED:20260324T201116Z
UID:5973-1778313600-1778346000@www.cvpc.it
SUMMARY:Trasporto Madonna di Fatima
DESCRIPTION:Trasporto Madonna di Fatima
URL:https://www.cvpc.it/index.php/evento/trasporto-madonna-di-fatima-15/
CATEGORIES:Associazione
ATTACH;FMTTYPE=image/jpeg:https://www.cvpc.it/wp-content/uploads/2023/04/fatima.jpg
ORGANIZER;CN="Associazione CVPC":MAILTO:info@cvpc.it
END:VEVENT
BEGIN:VEVENT
DTSTART;TZID=Europe/Rome:20260510T093000
DTEND;TZID=Europe/Rome:20260510T170000
DTSTAMP:20260423T004123
CREATED:20260324T201338Z
LAST-MODIFIED:20260407T191217Z
UID:5976-1778405400-1778432400@www.cvpc.it
SUMMARY:Messa Madonna di Fatima
DESCRIPTION:Ore 9.30 Messa Madonna di Fatima presso Basilica San Vittore. \nRichiesti 6 volontari
URL:https://www.cvpc.it/index.php/evento/trasporto-madonna-di-fatima-16/
LOCATION:Basilica di San Vittore al Corpo\, Via San Vittore\, 25\, Milano\, 20122\, Italia
CATEGORIES:Associazione
ATTACH;FMTTYPE=image/jpeg:https://www.cvpc.it/wp-content/uploads/2023/04/fatima.jpg
ORGANIZER;CN="Associazione CVPC":MAILTO:info@cvpc.it
END:VEVENT
BEGIN:VEVENT
DTSTART;TZID=Europe/Rome:20260513T183000
DTEND;TZID=Europe/Rome:20260513T233000
DTSTAMP:20260423T004123
CREATED:20260319T210651Z
LAST-MODIFIED:20260319T210651Z
UID:5936-1778697000-1778715000@www.cvpc.it
SUMMARY:Processione Madonna di Fatima
DESCRIPTION:
URL:https://www.cvpc.it/index.php/evento/processione-madonna-di-fatima-3/
LOCATION:Basilica di San Vittore al Corpo\, Via San Vittore\, 25\, Milano\, 20122\, Italia
CATEGORIES:Associazione
ORGANIZER;CN="Associazione CVPC":MAILTO:info@cvpc.it
END:VEVENT
BEGIN:VEVENT
DTSTART;TZID=Europe/Rome:20260517T080000
DTEND;TZID=Europe/Rome:20260517T170000
DTSTAMP:20260423T004123
CREATED:20260324T202601Z
LAST-MODIFIED:20260324T202601Z
UID:5982-1779004800-1779037200@www.cvpc.it
SUMMARY:Trasporto Madonna di Fatima
DESCRIPTION:Trasporto Madonna di Fatima
URL:https://www.cvpc.it/index.php/evento/trasporto-madonna-di-fatima-18/
CATEGORIES:Associazione
ATTACH;FMTTYPE=image/jpeg:https://www.cvpc.it/wp-content/uploads/2023/04/fatima.jpg
ORGANIZER;CN="Associazione CVPC":MAILTO:info@cvpc.it
END:VEVENT
BEGIN:VEVENT
DTSTART;TZID=Europe/Rome:20260517T093000
DTEND;TZID=Europe/Rome:20260517T170000
DTSTAMP:20260423T004123
CREATED:20260407T191005Z
LAST-MODIFIED:20260407T191005Z
UID:6083-1779010200-1779037200@www.cvpc.it
SUMMARY:Messa Madonna di Fatima
DESCRIPTION:Ore 9.30 Messa Madonna di Fatima presso Basilica San Vittore. \nRichiesti 6 volontari
URL:https://www.cvpc.it/index.php/evento/messa-madonna-di-fatima/
LOCATION:Basilica di San Vittore al Corpo\, Via San Vittore\, 25\, Milano\, 20122\, Italia
CATEGORIES:Associazione
ATTACH;FMTTYPE=image/jpeg:https://www.cvpc.it/wp-content/uploads/2023/04/fatima.jpg
ORGANIZER;CN="Associazione CVPC":MAILTO:info@cvpc.it
END:VEVENT
BEGIN:VEVENT
DTSTART;TZID=Europe/Rome:20260524T080000
DTEND;TZID=Europe/Rome:20260524T170000
DTSTAMP:20260423T004123
CREATED:20260324T202819Z
LAST-MODIFIED:20260324T202820Z
UID:5985-1779609600-1779642000@www.cvpc.it
SUMMARY:Trasporto Madonna di Fatima
DESCRIPTION:Trasporto Madonna di Fatima
URL:https://www.cvpc.it/index.php/evento/trasporto-madonna-di-fatima-19/
CATEGORIES:Associazione
ATTACH;FMTTYPE=image/jpeg:https://www.cvpc.it/wp-content/uploads/2023/04/fatima.jpg
ORGANIZER;CN="Associazione CVPC":MAILTO:info@cvpc.it
END:VEVENT
BEGIN:VEVENT
DTSTART;TZID=Europe/Rome:20260531T080000
DTEND;TZID=Europe/Rome:20260531T170000
DTSTAMP:20260423T004123
CREATED:20260324T203024Z
LAST-MODIFIED:20260324T203024Z
UID:5988-1780214400-1780246800@www.cvpc.it
SUMMARY:Trasporto Madonna di Fatima
DESCRIPTION:Trasporto Madonna di Fatima
URL:https://www.cvpc.it/index.php/evento/trasporto-madonna-di-fatima-20/
CATEGORIES:Associazione
ATTACH;FMTTYPE=image/jpeg:https://www.cvpc.it/wp-content/uploads/2023/04/fatima.jpg
ORGANIZER;CN="Associazione CVPC":MAILTO:info@cvpc.it
END:VEVENT
BEGIN:VEVENT
DTSTART;TZID=Europe/Rome:20260607T080000
DTEND;TZID=Europe/Rome:20260607T170000
DTSTAMP:20260423T004123
CREATED:20260324T203243Z
LAST-MODIFIED:20260324T203243Z
UID:5991-1780819200-1780851600@www.cvpc.it
SUMMARY:Trasporto Madonna di Fatima da confermare
DESCRIPTION:Trasporto Madonna di Fatima da confermare
URL:https://www.cvpc.it/index.php/evento/trasporto-madonna-di-fatima-da-confermare-2/
CATEGORIES:Associazione
ATTACH;FMTTYPE=image/jpeg:https://www.cvpc.it/wp-content/uploads/2023/04/fatima.jpg
ORGANIZER;CN="Associazione CVPC":MAILTO:info@cvpc.it
END:VEVENT
END:VCALENDAR