BEGIN:VCALENDAR
VERSION:2.0
PRODID:-//Corpo Volontari Protezione Civile - Milano - ECPv6.11.2.1//NONSGML v1.0//EN
CALSCALE:GREGORIAN
METHOD:PUBLISH
X-WR-CALNAME:Corpo Volontari Protezione Civile - Milano
X-ORIGINAL-URL:https://www.cvpc.it
X-WR-CALDESC:Eventi per Corpo Volontari Protezione Civile - Milano
REFRESH-INTERVAL;VALUE=DURATION:PT1H
X-Robots-Tag:noindex
X-PUBLISHED-TTL:PT1H
BEGIN:VTIMEZONE
TZID:Europe/Paris
BEGIN:DAYLIGHT
TZOFFSETFROM:+0100
TZOFFSETTO:+0200
TZNAME:CEST
DTSTART:20230326T010000
END:DAYLIGHT
BEGIN:STANDARD
TZOFFSETFROM:+0200
TZOFFSETTO:+0100
TZNAME:CET
DTSTART:20231029T010000
END:STANDARD
BEGIN:DAYLIGHT
TZOFFSETFROM:+0100
TZOFFSETTO:+0200
TZNAME:CEST
DTSTART:20240331T010000
END:DAYLIGHT
BEGIN:STANDARD
TZOFFSETFROM:+0200
TZOFFSETTO:+0100
TZNAME:CET
DTSTART:20241027T010000
END:STANDARD
END:VTIMEZONE
BEGIN:VTIMEZONE
TZID:Europe/Rome
BEGIN:DAYLIGHT
TZOFFSETFROM:+0100
TZOFFSETTO:+0200
TZNAME:CEST
DTSTART:20240331T010000
END:DAYLIGHT
BEGIN:STANDARD
TZOFFSETFROM:+0200
TZOFFSETTO:+0100
TZNAME:CET
DTSTART:20241027T010000
END:STANDARD
END:VTIMEZONE
BEGIN:VEVENT
DTSTART;TZID=Europe/Paris:20230616T190000
DTEND;TZID=Europe/Paris:20230617T150000
DTSTAMP:20260426T061832
CREATED:20230120T164311Z
LAST-MODIFIED:20230509T060525Z
UID:2452-1686942000-1687014000@www.cvpc.it
SUMMARY:Verifica Operativa di Squadra
DESCRIPTION:Verifica pratica dello stato di avanzamento preparazioni squadre in notturna. \nDalle ore 19.00 circa di venerdì fino alle 15.00 circa di sabato.
URL:https://www.cvpc.it/index.php/evento/verifica-operativa/
LOCATION:Sede CCV Milano\, Via Idroscalo\, INGRESSO SUD\, 2D\, Peschiera Borromeo\, 20068
CATEGORIES:Associazione
ATTACH;FMTTYPE=image/jpeg:https://www.cvpc.it/wp-content/uploads/2023/04/CVPC-Logo-1.jpg
ORGANIZER;CN="Associazione CVPC":MAILTO:info@cvpc.it
END:VEVENT
BEGIN:VEVENT
DTSTART;TZID=Europe/Paris:20230618T080000
DTEND;TZID=Europe/Paris:20230618T170000
DTSTAMP:20260426T061832
CREATED:20230203T090427Z
LAST-MODIFIED:20230509T054014Z
UID:2712-1687075200-1687107600@www.cvpc.it
SUMMARY:Assistenza Madonna di Fatima
DESCRIPTION:18.06     CUSAGO – OLMO DI BREMBO (BG)     DI SCORTA IN CASO DI MALTEMPO   ELICOTTERO
URL:https://www.cvpc.it/index.php/evento/assistenza-madonna-di-fatima-12/
LOCATION:Sede CVPC\, Via Fratelli Zoia\, 10\, Milano\, 20155\, Italia
CATEGORIES:Associazione
ATTACH;FMTTYPE=image/jpeg:https://www.cvpc.it/wp-content/uploads/2023/04/fatima.jpg
ORGANIZER;CN="Associazione CVPC":MAILTO:info@cvpc.it
END:VEVENT
BEGIN:VEVENT
DTSTART;TZID=Europe/Paris:20230629T200000
DTEND;TZID=Europe/Paris:20230629T230000
DTSTAMP:20260426T061832
CREATED:20230426T061550Z
LAST-MODIFIED:20230509T055231Z
UID:3032-1688068800-1688079600@www.cvpc.it
SUMMARY:Assistenza Madonna di Fatima
DESCRIPTION:
URL:https://www.cvpc.it/index.php/evento/assistenza-madonna-di-fatima-6/
LOCATION:Sede CVPC\, Via Fratelli Zoia\, 10\, Milano\, 20155\, Italia
CATEGORIES:Associazione
ATTACH;FMTTYPE=image/jpeg:https://www.cvpc.it/wp-content/uploads/2023/04/fatima.jpg
ORGANIZER;CN="Associazione CVPC":MAILTO:info@cvpc.it
END:VEVENT
BEGIN:VEVENT
DTSTART;TZID=Europe/Paris:20230930T060000
DTEND;TZID=Europe/Paris:20230930T230000
DTSTAMP:20260426T061832
CREATED:20230619T110728Z
LAST-MODIFIED:20230925T061646Z
UID:3218-1696053600-1696114800@www.cvpc.it
SUMMARY:CMAE
DESCRIPTION:Evento associativo prioritario. Richiesta la presenza di tutti i volontari\, inclusi collaboratori
URL:https://www.cvpc.it/index.php/evento/cmae/
LOCATION:Piazza Città di Lombardia\, Via Melchiorre Gioia\, Milano\, 20124\, Italia
CATEGORIES:Associazione
ATTACH;FMTTYPE=image/jpeg:https://www.cvpc.it/wp-content/uploads/2023/04/CVPC-Logo.jpg
ORGANIZER;CN="Associazione CVPC":MAILTO:info@cvpc.it
END:VEVENT
BEGIN:VEVENT
DTSTART;TZID=Europe/Paris:20231014T070000
DTEND;TZID=Europe/Paris:20231014T190000
DTSTAMP:20260426T061832
CREATED:20230920T062931Z
LAST-MODIFIED:20230920T062931Z
UID:3557-1697266800-1697310000@www.cvpc.it
SUMMARY:Io Non rischio 2023
DESCRIPTION:
URL:https://www.cvpc.it/index.php/evento/io-non-rischio-2023/
CATEGORIES:Associazione
ATTACH;FMTTYPE=image/png:https://www.cvpc.it/wp-content/uploads/2023/09/inr23.png
ORGANIZER;CN="Associazione CVPC":MAILTO:info@cvpc.it
END:VEVENT
BEGIN:VEVENT
DTSTART;TZID=Europe/Paris:20231014T070000
DTEND;TZID=Europe/Paris:20231014T190000
DTSTAMP:20260426T061832
CREATED:20230921T090557Z
LAST-MODIFIED:20230921T090557Z
UID:3571-1697266800-1697310000@www.cvpc.it
SUMMARY:Sagra di Baggio
DESCRIPTION:Evento in collaborazione col Consiglio di Zona\, di primaria importanza. Richiesta la partecipazione di tutti i volontari\, inclusi i collaboratori.
URL:https://www.cvpc.it/index.php/evento/sagra-di-baggio/
LOCATION:Sede CVPC\, Via Fratelli Zoia\, 10\, Milano\, 20155\, Italia
CATEGORIES:Associazione
ATTACH;FMTTYPE=image/jpeg:https://www.cvpc.it/wp-content/uploads/2023/04/CVPC-Logo.jpg
ORGANIZER;CN="Associazione CVPC":MAILTO:info@cvpc.it
END:VEVENT
BEGIN:VEVENT
DTSTART;TZID=Europe/Paris:20231015T070000
DTEND;TZID=Europe/Paris:20231015T190000
DTSTAMP:20260426T061832
CREATED:20230626T192159Z
LAST-MODIFIED:20230921T090743Z
UID:3234-1697353200-1697396400@www.cvpc.it
SUMMARY:Sagra di Baggio
DESCRIPTION:Evento in collaborazione col Consiglio di Zona\, di primaria importanza. Richiesta la partecipazione di tutti i volontari\, inclusi i collaboratori.
URL:https://www.cvpc.it/index.php/evento/festa-quartiere-baggio/
LOCATION:Sede CVPC\, Via Fratelli Zoia\, 10\, Milano\, 20155\, Italia
CATEGORIES:Associazione
ATTACH;FMTTYPE=image/jpeg:https://www.cvpc.it/wp-content/uploads/2023/04/CVPC-Logo.jpg
ORGANIZER;CN="Associazione CVPC":MAILTO:info@cvpc.it
END:VEVENT
BEGIN:VEVENT
DTSTART;TZID=Europe/Paris:20231026T210000
DTEND;TZID=Europe/Paris:20231026T230000
DTSTAMP:20260426T061832
CREATED:20231013T125825Z
LAST-MODIFIED:20231013T125826Z
UID:3627-1698354000-1698361200@www.cvpc.it
SUMMARY:Serata di specialità per manutenzione idro e taglio
DESCRIPTION:Serata di specialità per manutenzione idro e taglio
URL:https://www.cvpc.it/index.php/evento/serata-di-specialita-per-manutenzione-idro-e-taglio/
LOCATION:Sede CVPC\, Via Fratelli Zoia\, 10\, Milano\, 20155\, Italia
CATEGORIES:Associazione
ATTACH;FMTTYPE=image/jpeg:https://www.cvpc.it/wp-content/uploads/2023/04/CVPC-Logo.jpg
END:VEVENT
BEGIN:VEVENT
DTSTART;TZID=Europe/Paris:20231130T210000
DTEND;TZID=Europe/Paris:20231130T230000
DTSTAMP:20260426T061832
CREATED:20231015T194650Z
LAST-MODIFIED:20231015T194650Z
UID:3645-1701378000-1701385200@www.cvpc.it
SUMMARY:Carico mezzi x Quartiere Olmi
DESCRIPTION:
URL:https://www.cvpc.it/index.php/evento/carico-mezzi-x-quartiere-olmi/
LOCATION:Sede CVPC\, Via Fratelli Zoia\, 10\, Milano\, 20155\, Italia
CATEGORIES:Associazione
ATTACH;FMTTYPE=image/jpeg:https://www.cvpc.it/wp-content/uploads/2023/01/logo_cvpc_16-9.jpg
ORGANIZER;CN="Squadra LOGO":MAILTO:logo@cvpc.it
END:VEVENT
BEGIN:VEVENT
DTSTART;TZID=Europe/Paris:20231202T060000
DTEND;TZID=Europe/Paris:20231202T220000
DTSTAMP:20260426T061832
CREATED:20230626T192703Z
LAST-MODIFIED:20230626T192703Z
UID:3237-1701496800-1701554400@www.cvpc.it
SUMMARY:FESTA QUARTIERE OLMI
DESCRIPTION:Evento di primaria importanza. Richiesta la partecipazione di tutti i volontari\, inclusi i collaboratori \nMin 8 volontari per montaggio \n2-3 volontari per presidio mattina \n2-3 volontari per presidio pomeriggio \nMin 8 volontari per montaggio \n 
URL:https://www.cvpc.it/index.php/evento/festa-quartiere-olmi/
LOCATION:Sede CVPC\, Via Fratelli Zoia\, 10\, Milano\, 20155\, Italia
CATEGORIES:Associazione
ATTACH;FMTTYPE=image/jpeg:https://www.cvpc.it/wp-content/uploads/2023/01/logo_cvpc_16-9.jpg
ORGANIZER;CN="Associazione CVPC":MAILTO:info@cvpc.it
END:VEVENT
BEGIN:VEVENT
DTSTART;TZID=Europe/Paris:20231216T070000
DTEND;TZID=Europe/Paris:20231216T190000
DTSTAMP:20260426T061832
CREATED:20230626T193005Z
LAST-MODIFIED:20230626T193243Z
UID:3240-1702710000-1702753200@www.cvpc.it
SUMMARY:FESTA DI NATALE CVPC
DESCRIPTION:Evento associativo prioritario. Richiesta la presenza di tutti i volontari\, inclusi i collaboratori
URL:https://www.cvpc.it/index.php/evento/festa-di-natale-cvpc/
LOCATION:Sede CVPC\, Via Fratelli Zoia\, 10\, Milano\, 20155\, Italia
CATEGORIES:Associazione
ATTACH;FMTTYPE=image/jpeg:https://www.cvpc.it/wp-content/uploads/2023/01/logo_cvpc_16-9.jpg
ORGANIZER;CN="Associazione CVPC":MAILTO:info@cvpc.it
END:VEVENT
BEGIN:VEVENT
DTSTART;TZID=Europe/Paris:20231216T140000
DTEND;TZID=Europe/Paris:20231217T010000
DTSTAMP:20260426T061832
CREATED:20231115T215610Z
LAST-MODIFIED:20231115T215610Z
UID:3683-1702735200-1702774800@www.cvpc.it
SUMMARY:FESTA FLOWSERVE (DESIO)
DESCRIPTION:Assistenza ad allestimento festa\, partecipazione alla festa aziendale\, poi smontaggio tavoli e trasporto in sede
URL:https://www.cvpc.it/index.php/evento/festa-flowserve-desio/
CATEGORIES:Associazione
ATTACH;FMTTYPE=image/jpeg:https://www.cvpc.it/wp-content/uploads/2023/04/CVPC-Logo-1.jpg
ORGANIZER;CN="Associazione CVPC":MAILTO:info@cvpc.it
END:VEVENT
BEGIN:VEVENT
DTSTART;TZID=Europe/Paris:20240505T140000
DTEND;TZID=Europe/Paris:20240505T200000
DTSTAMP:20260426T061832
CREATED:20240204T145604Z
LAST-MODIFIED:20240409T174637Z
UID:3889-1714917600-1714939200@www.cvpc.it
SUMMARY:Trasporto Madonna di Fatima
DESCRIPTION:Trasporto in elicottero con Gabbiano di riserva in caso di maltempo; eventuale partenza ore 14.00. \nEquipaggio: POZZOLI – TAIRA
URL:https://www.cvpc.it/index.php/evento/trasporto-madonna-di-fatima/
CATEGORIES:Associazione
ATTACH;FMTTYPE=image/jpeg:https://www.cvpc.it/wp-content/uploads/2023/04/fatima.jpg
ORGANIZER;CN="Associazione CVPC":MAILTO:info@cvpc.it
END:VEVENT
BEGIN:VEVENT
DTSTART;TZID=Europe/Paris:20240511T210000
DTEND;TZID=Europe/Paris:20240511T233000
DTSTAMP:20260426T061832
CREATED:20240204T150028Z
LAST-MODIFIED:20240409T174839Z
UID:3894-1715461200-1715470200@www.cvpc.it
SUMMARY:Trasporto Madonna di Fatima
DESCRIPTION:Trasporto da Barzana (BG) fino a Milano presso Basilica San Vittore in Corpo. \nEquipaggio: POZZOLI – TAIRA – RAMELLA
URL:https://www.cvpc.it/index.php/evento/trasporto-madonna-di-fatima-2/
CATEGORIES:Associazione
ATTACH;FMTTYPE=image/jpeg:https://www.cvpc.it/wp-content/uploads/2023/04/fatima.jpg
ORGANIZER;CN="Associazione CVPC":MAILTO:info@cvpc.it
END:VEVENT
BEGIN:VEVENT
DTSTART;TZID=Europe/Paris:20240512T090000
DTEND;TZID=Europe/Paris:20240512T120000
DTSTAMP:20260426T061832
CREATED:20240204T150217Z
LAST-MODIFIED:20240430T181453Z
UID:3897-1715504400-1715515200@www.cvpc.it
SUMMARY:Messa presso Basilica San Vittore in Corpo
DESCRIPTION:Sono richiesti volontari 9.00 / 12.00. \nPERSONALE: ALBORGHETTI\, CACCIOLATO\, FERRI\, POZZOLI\, VERONESI
URL:https://www.cvpc.it/index.php/evento/messa-presso-basilica-san-vittore-in-corpo/
LOCATION:Basilica di San Vittore al Corpo\, Via San Vittore\, 25\, Milano\, 20122\, Italia
CATEGORIES:Associazione
ATTACH;FMTTYPE=image/jpeg:https://www.cvpc.it/wp-content/uploads/2023/04/CVPC-Logo-1.jpg
ORGANIZER;CN="Associazione CVPC":MAILTO:info@cvpc.it
END:VEVENT
BEGIN:VEVENT
DTSTART;TZID=Europe/Paris:20240513T170000
DTEND;TZID=Europe/Paris:20240513T230000
DTSTAMP:20260426T061832
CREATED:20240107T184100Z
LAST-MODIFIED:20240513T073116Z
UID:3811-1715619600-1715641200@www.cvpc.it
SUMMARY:Processione Madonna di Fatima.
DESCRIPTION:Processione Madonna di Fatima.
URL:https://www.cvpc.it/index.php/evento/processione-madonna-di-fatima/
LOCATION:Basilica di San Vittore al Corpo\, Via San Vittore\, 25\, Milano\, 20122\, Italia
CATEGORIES:Associazione
ATTACH;FMTTYPE=image/jpeg:https://www.cvpc.it/wp-content/uploads/2023/01/logo_cvpc_16-9.jpg
ORGANIZER;CN="Associazione CVPC":MAILTO:info@cvpc.it
END:VEVENT
BEGIN:VEVENT
DTSTART;TZID=Europe/Paris:20240517T210000
DTEND;TZID=Europe/Paris:20240517T233000
DTSTAMP:20260426T061832
CREATED:20240204T150733Z
LAST-MODIFIED:20240409T175236Z
UID:3903-1715979600-1715988600@www.cvpc.it
SUMMARY:Trasporto Madonna di Fatima
DESCRIPTION:Trasporto da Santa Maria delle Grazie fino alla Basilica San Vincenzo al Prato. \nPartenza ore 21.15 \nEquipaggio: ABBIATI\, CANEPA\, TAIRA
URL:https://www.cvpc.it/index.php/evento/trasporto-madonna-di-fatima-3/
CATEGORIES:Associazione
ATTACH;FMTTYPE=image/jpeg:https://www.cvpc.it/wp-content/uploads/2023/04/fatima.jpg
ORGANIZER;CN="Associazione CVPC":MAILTO:info@cvpc.it
END:VEVENT
BEGIN:VEVENT
DTSTART;TZID=Europe/Paris:20240518T193000
DTEND;TZID=Europe/Paris:20240518T233000
DTSTAMP:20260426T061832
CREATED:20240204T151015Z
LAST-MODIFIED:20240430T181944Z
UID:3906-1716060600-1716075000@www.cvpc.it
SUMMARY:Trasporto Madonna di Fatima
DESCRIPTION:Trasporto da San Vincenzo alla Basilica San Vittore al Corpo. \nRitrovo ore 19.30 \nEquipaggio: OLMI\, PAGETTI\, POZZOLI
URL:https://www.cvpc.it/index.php/evento/trasporto-madonna-di-fatima-4/
CATEGORIES:Associazione
ATTACH;FMTTYPE=image/jpeg:https://www.cvpc.it/wp-content/uploads/2023/04/fatima.jpg
ORGANIZER;CN="Associazione CVPC":MAILTO:info@cvpc.it
END:VEVENT
BEGIN:VEVENT
DTSTART;TZID=Europe/Paris:20240519T090000
DTEND;TZID=Europe/Paris:20240519T233000
DTSTAMP:20260426T061832
CREATED:20240204T151250Z
LAST-MODIFIED:20240430T182119Z
UID:3909-1716109200-1716161400@www.cvpc.it
SUMMARY:Messa in San Vittore al Corpo e Trasporto Madonna di Fatima
DESCRIPTION:Sono richiesti 2 volontari per messa in San Vittore in Corpo dalle ore 9.00 alle ore 12.00 \nPersonale: FERRI\, POZZOLI\, TAIRA \n  \nTrasporto pomeridiano da San Vittore a Seregno dalle ore 15.00 \nEquipaggio: OLMI\, POZZOLI
URL:https://www.cvpc.it/index.php/evento/messa-in-san-vittore-al-corpo-e-trasporto-madonna-di-fatima/
LOCATION:Basilica di San Vittore al Corpo\, Via San Vittore\, 25\, Milano\, 20122\, Italia
CATEGORIES:Associazione
ATTACH;FMTTYPE=image/jpeg:https://www.cvpc.it/wp-content/uploads/2023/04/CVPC-Logo-1.jpg
ORGANIZER;CN="Associazione CVPC":MAILTO:info@cvpc.it
END:VEVENT
BEGIN:VEVENT
DTSTART;TZID=Europe/Paris:20240526T150000
DTEND;TZID=Europe/Paris:20240526T170000
DTSTAMP:20260426T061832
CREATED:20240204T151438Z
LAST-MODIFIED:20240430T182231Z
UID:3912-1716735600-1716742800@www.cvpc.it
SUMMARY:Trasporto Madonna di Fatima
DESCRIPTION:Trasporto da Seregno a Rho con partenza dalle ore 15.00 \nEquipaggio: POZZOLI\, TAIRA
URL:https://www.cvpc.it/index.php/evento/trasporto-madonna-di-fatima-5/
CATEGORIES:Associazione
ATTACH;FMTTYPE=image/jpeg:https://www.cvpc.it/wp-content/uploads/2023/04/fatima.jpg
ORGANIZER;CN="Associazione CVPC":MAILTO:info@cvpc.it
END:VEVENT
BEGIN:VEVENT
DTSTART;TZID=Europe/Paris:20240602T150000
DTEND;TZID=Europe/Paris:20240602T233000
DTSTAMP:20260426T061832
CREATED:20240204T151611Z
LAST-MODIFIED:20240430T182345Z
UID:3915-1717340400-1717371000@www.cvpc.it
SUMMARY:Trasporto Madonna di Fatima
DESCRIPTION:Trasporto da Lucernate di Rho a Nova Milanese con partenza alle ore 15.00 \nEquipaggio: CAVANNA\, POZZOLI
URL:https://www.cvpc.it/index.php/evento/trasporto-madonna-di-fatima-6/
CATEGORIES:Associazione
ATTACH;FMTTYPE=image/jpeg:https://www.cvpc.it/wp-content/uploads/2023/04/fatima.jpg
ORGANIZER;CN="Associazione CVPC":MAILTO:info@cvpc.it
END:VEVENT
BEGIN:VEVENT
DTSTART;TZID=Europe/Paris:20240616T080000
DTEND;TZID=Europe/Paris:20240616T170000
DTSTAMP:20260426T061832
CREATED:20240616T021557Z
LAST-MODIFIED:20240616T021802Z
UID:4159-1718524800-1718557200@www.cvpc.it
SUMMARY:Giornata manutenzione delle aree verdi della nostra sede
DESCRIPTION:Giornata manutenzione delle aree verdi della nostra sede
URL:https://www.cvpc.it/index.php/evento/giornata-manutenzione-delle-aree-verdi-della-nostra-sede/
LOCATION:Sede CVPC\, Via Fratelli Zoia\, 10\, Milano\, 20155\, Italia
CATEGORIES:Associazione
ATTACH;FMTTYPE=image/jpeg:https://www.cvpc.it/wp-content/uploads/2023/04/CVPC-Logo.jpg
ORGANIZER;CN="Associazione CVPC":MAILTO:info@cvpc.it
END:VEVENT
BEGIN:VEVENT
DTSTART;TZID=Europe/Paris:20240627T210000
DTEND;TZID=Europe/Paris:20240627T230000
DTSTAMP:20260426T061832
CREATED:20240622T053505Z
LAST-MODIFIED:20240622T053630Z
UID:4176-1719522000-1719529200@www.cvpc.it
SUMMARY:Autodifesa digitale: preparazione\, prevenzione e risposta di Tommaso Zampagni
DESCRIPTION:Non è una lezione ex-cathedra bensì un momento di formazione e scambio per cui è importante il lavoro di gruppo e la presenza fisica in sede.\nSe qualcuno sarà impossibilitato ad esserci\, proverò ad organizzare un collegamento.
URL:https://www.cvpc.it/index.php/evento/autodifesa-digitale-preparazione-prevenzione-e-risposta/
LOCATION:Sede CVPC\, Via Fratelli Zoia\, 10\, Milano\, 20155\, Italia
CATEGORIES:Associazione
ATTACH;FMTTYPE=image/jpeg:https://www.cvpc.it/wp-content/uploads/2024/06/Senza-titolo.jpeg
ORGANIZER;CN="Associazione CVPC":MAILTO:info@cvpc.it
END:VEVENT
BEGIN:VEVENT
DTSTART;TZID=Europe/Paris:20240630T100000
DTEND;TZID=Europe/Paris:20240630T200000
DTSTAMP:20260426T061832
CREATED:20240609T183715Z
LAST-MODIFIED:20240610T152722Z
UID:4143-1719741600-1719777600@www.cvpc.it
SUMMARY:Valutazione squadre reperibili
DESCRIPTION:Valutazione squadre reperibili \n  \n 
URL:https://www.cvpc.it/index.php/evento/valutazione-squadre-reperibili/
CATEGORIES:Associazione
ATTACH;FMTTYPE=image/jpeg:https://www.cvpc.it/wp-content/uploads/2023/04/CVPC-Logo.jpg
ORGANIZER;CN="Associazione CVPC":MAILTO:info@cvpc.it
END:VEVENT
BEGIN:VEVENT
DTSTART;TZID=Europe/Paris:20240706T080000
DTEND;TZID=Europe/Paris:20240706T170000
DTSTAMP:20260426T061832
CREATED:20240619T084921Z
LAST-MODIFIED:20240619T084921Z
UID:4172-1720252800-1720285200@www.cvpc.it
SUMMARY:Manutenzione delle aree verdi sede
DESCRIPTION:Manutenzione delle aree verdi sede
URL:https://www.cvpc.it/index.php/evento/manutenzione-delle-aree-verdi-sede/
LOCATION:Sede CVPC\, Via Fratelli Zoia\, 10\, Milano\, 20155\, Italia
CATEGORIES:Associazione
ATTACH;FMTTYPE=image/jpeg:https://www.cvpc.it/wp-content/uploads/2023/01/logo_cvpc_16-9.jpg
ORGANIZER;CN="Associazione CVPC":MAILTO:info@cvpc.it
END:VEVENT
BEGIN:VEVENT
DTSTART;TZID=Europe/Paris:20240907T080000
DTEND;TZID=Europe/Paris:20240907T170000
DTSTAMP:20260426T061832
CREATED:20240819T043524Z
LAST-MODIFIED:20240819T043524Z
UID:4204-1725696000-1725728400@www.cvpc.it
SUMMARY:Manutenzione delle aree verdi sede
DESCRIPTION:Manutenzione delle aree verdi sede.\nPer iscriversi contattare il proprio caposquadra.
URL:https://www.cvpc.it/index.php/evento/manutenzione-delle-aree-verdi-sede-2/
LOCATION:Sede CVPC\, Via Fratelli Zoia\, 10\, Milano\, 20155\, Italia
CATEGORIES:Associazione
ATTACH;FMTTYPE=image/jpeg:https://www.cvpc.it/wp-content/uploads/2023/01/logo_cvpc_16-9.jpg
ORGANIZER;CN="Associazione CVPC":MAILTO:info@cvpc.it
END:VEVENT
BEGIN:VEVENT
DTSTART;TZID=Europe/Rome:20240922T073000
DTEND;TZID=Europe/Rome:20240922T113000
DTSTAMP:20260426T061832
CREATED:20240717T142402Z
LAST-MODIFIED:20240911T185038Z
UID:4198-1726990200-1727004600@www.cvpc.it
SUMMARY:CMAE - 100 Anni di autostrada Milano / Varese
DESCRIPTION:Palazzo Regione\nRitrovo ore 06.45 circa.\nFine operazioni ore 11.30 circa. \nSeguiranno ulteriori aggiornamenti….
URL:https://www.cvpc.it/index.php/evento/100-anni-di-autostrada-milano-varese/
CATEGORIES:Associazione
ATTACH;FMTTYPE=image/jpeg:https://www.cvpc.it/wp-content/uploads/2023/01/logo_cvpc_16-9.jpg
ORGANIZER;CN="Associazione CVPC":MAILTO:info@cvpc.it
END:VEVENT
BEGIN:VEVENT
DTSTART;TZID=Europe/Rome:20241012T090000
DTEND;TZID=Europe/Rome:20241012T120000
DTSTAMP:20260426T061832
CREATED:20240925T182857Z
LAST-MODIFIED:20240925T183353Z
UID:4284-1728723600-1728734400@www.cvpc.it
SUMMARY:Io non rischio
DESCRIPTION:Milano\, piazza Sant’Ambrogio.
URL:https://www.cvpc.it/index.php/evento/io-non-rischio/
CATEGORIES:Associazione
ATTACH;FMTTYPE=image/png:https://www.cvpc.it/wp-content/uploads/2023/09/inr23-1.png
ORGANIZER;CN="Associazione CVPC":MAILTO:info@cvpc.it
END:VEVENT
BEGIN:VEVENT
DTSTART;TZID=Europe/Rome:20241013T090000
DTEND;TZID=Europe/Rome:20241013T170000
DTSTAMP:20260426T061832
CREATED:20240925T183023Z
LAST-MODIFIED:20240925T183446Z
UID:4286-1728810000-1728838800@www.cvpc.it
SUMMARY:Io non rischio
DESCRIPTION:Milano\, piazza Sant’Ambrogio.
URL:https://www.cvpc.it/index.php/evento/io-non-rischio-2/
CATEGORIES:Associazione
ATTACH;FMTTYPE=image/png:https://www.cvpc.it/wp-content/uploads/2023/09/inr23-1.png
END:VEVENT
BEGIN:VEVENT
DTSTART;TZID=Europe/Rome:20241013T100000
DTEND;TZID=Europe/Rome:20241013T160000
DTSTAMP:20260426T061832
CREATED:20240425T060838Z
LAST-MODIFIED:20240911T185155Z
UID:4105-1728813600-1728835200@www.cvpc.it
SUMMARY:CMAE
DESCRIPTION:Palazzo Regione\nRitrovo ore 09.30 circa.\nFine operazioni ore 15.30 circa. \nSeguiranno ulteriori aggiornamenti….
URL:https://www.cvpc.it/index.php/evento/4105/
CATEGORIES:Associazione
ATTACH;FMTTYPE=image/jpeg:https://www.cvpc.it/wp-content/uploads/2023/01/logo_cvpc_16-9.jpg
ORGANIZER;CN="Associazione CVPC":MAILTO:info@cvpc.it
END:VEVENT
END:VCALENDAR