BEGIN:VCALENDAR
VERSION:2.0
PRODID:-//Corpo Volontari Protezione Civile - Milano - ECPv6.11.2.1//NONSGML v1.0//EN
CALSCALE:GREGORIAN
METHOD:PUBLISH
X-WR-CALNAME:Corpo Volontari Protezione Civile - Milano
X-ORIGINAL-URL:https://www.cvpc.it
X-WR-CALDESC:Eventi per Corpo Volontari Protezione Civile - Milano
REFRESH-INTERVAL;VALUE=DURATION:PT1H
X-Robots-Tag:noindex
X-PUBLISHED-TTL:PT1H
BEGIN:VTIMEZONE
TZID:Europe/Paris
BEGIN:DAYLIGHT
TZOFFSETFROM:+0100
TZOFFSETTO:+0200
TZNAME:CEST
DTSTART:20230326T010000
END:DAYLIGHT
BEGIN:STANDARD
TZOFFSETFROM:+0200
TZOFFSETTO:+0100
TZNAME:CET
DTSTART:20231029T010000
END:STANDARD
END:VTIMEZONE
BEGIN:VEVENT
DTSTART;TZID=Europe/Paris:20231202T060000
DTEND;TZID=Europe/Paris:20231202T220000
DTSTAMP:20260425T172251
CREATED:20230626T192703Z
LAST-MODIFIED:20230626T192703Z
UID:3237-1701496800-1701554400@www.cvpc.it
SUMMARY:FESTA QUARTIERE OLMI
DESCRIPTION:Evento di primaria importanza. Richiesta la partecipazione di tutti i volontari\, inclusi i collaboratori \nMin 8 volontari per montaggio \n2-3 volontari per presidio mattina \n2-3 volontari per presidio pomeriggio \nMin 8 volontari per montaggio \n 
URL:https://www.cvpc.it/index.php/evento/festa-quartiere-olmi/
LOCATION:Sede CVPC\, Via Fratelli Zoia\, 10\, Milano\, 20155\, Italia
CATEGORIES:Associazione
ATTACH;FMTTYPE=image/jpeg:https://www.cvpc.it/wp-content/uploads/2023/01/logo_cvpc_16-9.jpg
ORGANIZER;CN="Associazione CVPC":MAILTO:info@cvpc.it
END:VEVENT
BEGIN:VEVENT
DTSTART;TZID=Europe/Paris:20231216T070000
DTEND;TZID=Europe/Paris:20231216T190000
DTSTAMP:20260425T172251
CREATED:20230626T193005Z
LAST-MODIFIED:20230626T193243Z
UID:3240-1702710000-1702753200@www.cvpc.it
SUMMARY:FESTA DI NATALE CVPC
DESCRIPTION:Evento associativo prioritario. Richiesta la presenza di tutti i volontari\, inclusi i collaboratori
URL:https://www.cvpc.it/index.php/evento/festa-di-natale-cvpc/
LOCATION:Sede CVPC\, Via Fratelli Zoia\, 10\, Milano\, 20155\, Italia
CATEGORIES:Associazione
ATTACH;FMTTYPE=image/jpeg:https://www.cvpc.it/wp-content/uploads/2023/01/logo_cvpc_16-9.jpg
ORGANIZER;CN="Associazione CVPC":MAILTO:info@cvpc.it
END:VEVENT
BEGIN:VEVENT
DTSTART;TZID=Europe/Paris:20231216T140000
DTEND;TZID=Europe/Paris:20231217T010000
DTSTAMP:20260425T172251
CREATED:20231115T215610Z
LAST-MODIFIED:20231115T215610Z
UID:3683-1702735200-1702774800@www.cvpc.it
SUMMARY:FESTA FLOWSERVE (DESIO)
DESCRIPTION:Assistenza ad allestimento festa\, partecipazione alla festa aziendale\, poi smontaggio tavoli e trasporto in sede
URL:https://www.cvpc.it/index.php/evento/festa-flowserve-desio/
CATEGORIES:Associazione
ATTACH;FMTTYPE=image/jpeg:https://www.cvpc.it/wp-content/uploads/2023/04/CVPC-Logo-1.jpg
ORGANIZER;CN="Associazione CVPC":MAILTO:info@cvpc.it
END:VEVENT
END:VCALENDAR