BEGIN:VCALENDAR
VERSION:2.0
PRODID:-//Corpo Volontari Protezione Civile - Milano - ECPv6.11.2.1//NONSGML v1.0//EN
CALSCALE:GREGORIAN
METHOD:PUBLISH
X-ORIGINAL-URL:https://www.cvpc.it
X-WR-CALDESC:Eventi per Corpo Volontari Protezione Civile - Milano
REFRESH-INTERVAL;VALUE=DURATION:PT1H
X-Robots-Tag:noindex
X-PUBLISHED-TTL:PT1H
BEGIN:VTIMEZONE
TZID:Europe/Rome
BEGIN:DAYLIGHT
TZOFFSETFROM:+0100
TZOFFSETTO:+0200
TZNAME:CEST
DTSTART:20260329T010000
END:DAYLIGHT
BEGIN:STANDARD
TZOFFSETFROM:+0200
TZOFFSETTO:+0100
TZNAME:CET
DTSTART:20261025T010000
END:STANDARD
END:VTIMEZONE
BEGIN:VEVENT
DTSTART;TZID=Europe/Rome:20260328T080000
DTEND;TZID=Europe/Rome:20260328T160000
DTSTAMP:20260422T151108
CREATED:20260316T200411Z
LAST-MODIFIED:20260320T101722Z
UID:5923-1774684800-1774713600@www.cvpc.it
SUMMARY:Addestramento di Squadra LOGO congiunto con altre squadre
DESCRIPTION:Addestramento di Squadra LOGO congiunto con altre squadre \nOrario indicativo 8.00 / 16.00
URL:https://www.cvpc.it/index.php/evento/addestramento-logo/
LOCATION:Sede CCV Milano\, Via Idroscalo\, INGRESSO SUD\, 2D\, Peschiera Borromeo\, 20068
CATEGORIES:Squadra LOGO
ATTACH;FMTTYPE=image/jpeg:https://www.cvpc.it/wp-content/uploads/2025/02/WhatsApp-Image-2025-02-19-at-09.58.00.jpeg
ORGANIZER;CN="Squadra LOGO":MAILTO:logo@cvpc.it
END:VEVENT
END:VCALENDAR