BEGIN:VCALENDAR
VERSION:2.0
PRODID:-//Corpo Volontari Protezione Civile - Milano - ECPv6.11.2.1//NONSGML v1.0//EN
CALSCALE:GREGORIAN
METHOD:PUBLISH
X-WR-CALNAME:Corpo Volontari Protezione Civile - Milano
X-ORIGINAL-URL:https://www.cvpc.it
X-WR-CALDESC:Eventi per Corpo Volontari Protezione Civile - Milano
REFRESH-INTERVAL;VALUE=DURATION:PT1H
X-Robots-Tag:noindex
X-PUBLISHED-TTL:PT1H
BEGIN:VTIMEZONE
TZID:Europe/Rome
BEGIN:DAYLIGHT
TZOFFSETFROM:+0100
TZOFFSETTO:+0200
TZNAME:CEST
DTSTART:20260329T010000
END:DAYLIGHT
BEGIN:STANDARD
TZOFFSETFROM:+0200
TZOFFSETTO:+0100
TZNAME:CET
DTSTART:20261025T010000
END:STANDARD
END:VTIMEZONE
BEGIN:VEVENT
DTSTART;TZID=Europe/Rome:20260120T210000
DTEND;TZID=Europe/Rome:20260120T233000
DTSTAMP:20260422T203324
CREATED:20251208T120238Z
LAST-MODIFIED:20251208T120327Z
UID:5800-1768942800-1768951800@www.cvpc.it
SUMMARY:Addestramento di squadra TCom ore 21.00
DESCRIPTION:Addestramento di squadra TCom ore 21.00
URL:https://www.cvpc.it/index.php/evento/addestramento-di-squadra-tcom-ore-21-00/
LOCATION:Sede CVPC\, Via Fratelli Zoia\, 10\, Milano\, 20155\, Italia
CATEGORIES:Squadra TCOM
ATTACH;FMTTYPE=image/jpeg:https://www.cvpc.it/wp-content/uploads/2023/01/logo_tcom_16-9.jpg
END:VEVENT
END:VCALENDAR