BEGIN:VCALENDAR
VERSION:2.0
PRODID:-//Corpo Volontari Protezione Civile - Milano - ECPv6.11.2.1//NONSGML v1.0//EN
CALSCALE:GREGORIAN
METHOD:PUBLISH
X-WR-CALNAME:Corpo Volontari Protezione Civile - Milano
X-ORIGINAL-URL:https://www.cvpc.it
X-WR-CALDESC:Eventi per Corpo Volontari Protezione Civile - Milano
REFRESH-INTERVAL;VALUE=DURATION:PT1H
X-Robots-Tag:noindex
X-PUBLISHED-TTL:PT1H
BEGIN:VTIMEZONE
TZID:Europe/Rome
BEGIN:DAYLIGHT
TZOFFSETFROM:+0100
TZOFFSETTO:+0200
TZNAME:CEST
DTSTART:20250330T010000
END:DAYLIGHT
BEGIN:STANDARD
TZOFFSETFROM:+0200
TZOFFSETTO:+0100
TZNAME:CET
DTSTART:20251026T010000
END:STANDARD
END:VTIMEZONE
BEGIN:VEVENT
DTSTART;TZID=Europe/Rome:20251125T210000
DTEND;TZID=Europe/Rome:20251125T230000
DTSTAMP:20260423T015455
CREATED:20251110T061653Z
LAST-MODIFIED:20251110T061653Z
UID:5643-1764104400-1764111600@www.cvpc.it
SUMMARY:Addestramento di squadra TCom
DESCRIPTION:Addestramento di squadra TCom ore 21.00
URL:https://www.cvpc.it/index.php/evento/addestramento-di-squadra-tcom-4/
LOCATION:Sede CVPC\, Via Fratelli Zoia\, 10\, Milano\, 20155\, Italia
CATEGORIES:Squadra TCOM
ATTACH;FMTTYPE=image/jpeg:https://www.cvpc.it/wp-content/uploads/2025/02/WhatsApp-Image-2025-02-19-at-09.58.00-2.jpeg
ORGANIZER;CN="Squadra TCOM":MAILTO:tcom@cvpc.it
END:VEVENT
END:VCALENDAR