BEGIN:VCALENDAR
VERSION:2.0
PRODID:-//Corpo Volontari Protezione Civile - Milano - ECPv6.11.2.1//NONSGML v1.0//EN
CALSCALE:GREGORIAN
METHOD:PUBLISH
X-WR-CALNAME:Corpo Volontari Protezione Civile - Milano
X-ORIGINAL-URL:https://www.cvpc.it
X-WR-CALDESC:Eventi per Corpo Volontari Protezione Civile - Milano
REFRESH-INTERVAL;VALUE=DURATION:PT1H
X-Robots-Tag:noindex
X-PUBLISHED-TTL:PT1H
BEGIN:VTIMEZONE
TZID:Europe/Paris
BEGIN:DAYLIGHT
TZOFFSETFROM:+0100
TZOFFSETTO:+0200
TZNAME:CEST
DTSTART:20250330T010000
END:DAYLIGHT
BEGIN:STANDARD
TZOFFSETFROM:+0200
TZOFFSETTO:+0100
TZNAME:CET
DTSTART:20251026T010000
END:STANDARD
END:VTIMEZONE
BEGIN:VEVENT
DTSTART;TZID=Europe/Paris:20250323T080000
DTEND;TZID=Europe/Paris:20250323T170000
DTSTAMP:20260423T203956
CREATED:20250201T211454Z
LAST-MODIFIED:20250218T154339Z
UID:4734-1742716800-1742749200@www.cvpc.it
SUMMARY:Aggiornamento Taglio Esbosco Idroscalo
DESCRIPTION:Aggiornamento Taglio Esbosco Idroscalo
URL:https://www.cvpc.it/index.php/evento/aggiornamento-taglio-esbosco-idroscalo/
LOCATION:Sede CCV Milano\, Via Idroscalo\, INGRESSO SUD\, 2D\, Peschiera Borromeo\, 20068
CATEGORIES:Associazione
ATTACH;FMTTYPE=image/jpeg:https://www.cvpc.it/wp-content/uploads/2023/01/logo_cvpc_16-9.jpg
ORGANIZER;CN="Associazione CVPC":MAILTO:info@cvpc.it
END:VEVENT
END:VCALENDAR